BEGIN:VCALENDAR
VERSION:2.0
PRODID:-//ChamberMaster//Event Calendar 2.0//EN
METHOD:PUBLISH
X-PUBLISHED-TTL:P3D
REFRESH-INTERVAL:P3D
CALSCALE:GREGORIAN
BEGIN:VEVENT
DTSTART:20210530T180000Z
DTEND:20210530T210000Z
X-MICROSOFT-CDO-ALLDAYEVENT:FALSE
SUMMARY:Karl Oskar House Reopening and music with 'Longtine and Platt'
DESCRIPTION:All are invited to drop by the Karl Oskar House at KiChiSaga Park on Glader Blvd in Lindstrom on Sunday\, May 30th from 1-4pm. Special entertainment "Longtine and Platt" will be playing throughout the afternoon. "We are friends who love sharing the folk music of the Nordic countries as well as Quebec."
X-ALT-DESC;FMTTYPE=text/html:All are invited to drop by the Karl Oskar House at KiChiSaga Park on Glader Blvd in Lindstrom on Sunday\, May 30th from 1-4pm. Special entertainment &quot\;Longtine and Platt&quot\; will be playing throughout the afternoon. &quot\;We are friends who love sharing the folk music of the Nordic countries as well as Quebec.&quot\;
LOCATION:29061 Glader Blvd Lindstrom\, Mn 55045
UID:e.3575.839
SEQUENCE:3
DTSTAMP:20260423T121053Z
URL:https://business.chisagolakeschamber.com/events/details/karl-oskar-house-reopening-and-music-with-longtine-and-platt-839
END:VEVENT

END:VCALENDAR
