BEGIN:VCALENDAR
VERSION:2.0
PRODID:-//ChamberMaster//Event Calendar 2.0//EN
METHOD:PUBLISH
X-PUBLISHED-TTL:P3D
REFRESH-INTERVAL:P3D
CALSCALE:GREGORIAN
BEGIN:VEVENT
DTSTART;VALUE=DATE:20230903
DTEND;VALUE=DATE:20230904
TRANSP:TRANSPARENT
X-MICROSOFT-CDO-ALLDAYEVENT:TRUE
SUMMARY:Labor Day Weekend Rubber Duckie Paddle
DESCRIPTION:Labor Day Weekend Rubber Duckie Paddle\n\nGrab your kayaks or canoes and join us! Gather all 10 different rubber duckies from various locations along the shores of North Lindstrom Lake\, Bull Lake and vicinity to win prizes!\n\n \n\nRegister FREE at Lindstrom Beach Park from 12:30 to 1:30 pm\n\n\n\nPrizes awarded at 4 pm at Lindstrom Beach Park.
X-ALT-DESC;FMTTYPE=text/html:<p style="box-sizing: border-box\; margin: 0px\; padding: 0px\; border: 0px\; font-variant-numeric: inherit\; font-variant-east-asian: inherit\; font-stretch: inherit\; line-height: inherit\; font-family: &quot\;Helvetica Neue&quot\;\, Helvetica\, Arial\, sans-serif\; font-size: 14px\; vertical-align: baseline\; color: rgb(68\, 68\, 68)\;"><span style="font-size:14px\;"><span style="font-family:tahoma\;"><em><strong>Labor Day Weekend Rubber Duckie Paddle</strong></em><br />\nGrab your kayaks or canoes and join us! Gather all 10 different rubber duckies from various locations along the shores of North Lindstrom Lake\, Bull Lake and vicinity to win prizes!</span></span><br />\n&nbsp\;</p>\n\n<p style="box-sizing: border-box\; margin: 0px\; padding: 0px\; border: 0px\; font-variant-numeric: inherit\; font-variant-east-asian: inherit\; font-stretch: inherit\; line-height: inherit\; font-family: &quot\;Helvetica Neue&quot\;\, Helvetica\, Arial\, sans-serif\; font-size: 14px\; vertical-align: baseline\; color: rgb(68\, 68\, 68)\;"><span style="font-size:14px\;"><span style="font-family:tahoma\;">Register FREE at Lindstrom Beach Park from 12:30 to 1:30 pm<br />\n<br />\nPrizes awarded at 4 pm at Lindstrom Beach Park.&nbsp\;</span></span></p>\n
LOCATION:Lindstrom Beach Park 12505 Newell Ave Lindstrom\, MN 55045 Follow on Facebook for event updates: www.facebook.com/ChisagoLakesWaterTrail
UID:e.3575.6153
SEQUENCE:3
DTSTAMP:20260422T092910Z
URL:https://business.chisagolakeschamber.com/events/details/labor-day-weekend-rubber-duckie-paddle-6153
END:VEVENT

END:VCALENDAR
