BEGIN:VCALENDAR
VERSION:2.0
PRODID:-//ChamberMaster//Event Calendar 2.0//EN
METHOD:PUBLISH
X-PUBLISHED-TTL:P3D
REFRESH-INTERVAL:P3D
CALSCALE:GREGORIAN
BEGIN:VEVENT
DTSTART;VALUE=DATE:20210510
DTEND;VALUE=DATE:20210511
TRANSP:TRANSPARENT
X-MICROSOFT-CDO-ALLDAYEVENT:TRUE
SUMMARY:Lakes Center 45th Anniversary Online Silent Auction
DESCRIPTION:Lakes Center for Youth and Families is celebrating their 45th Anniversary. Join them as they kick off the celebration with an online silent auction! The auction has something for everyone! From wine connoisseur packages to family fun- now is your chance to win something great and support local youth and families while doing so!
X-ALT-DESC;FMTTYPE=text/html:<span style="font-family:calibri\,sans-serif"><span style="font-size:11.0pt">Lakes Center for Youth and Families is celebrating their 45<sup>th</sup> Anniversary. Join them as they kick off the celebration with an online silent auction! The auction has something for everyone! From wine connoisseur packages to family fun- now is your chance to win something great and support local youth and families while doing so!&nbsp\;</span></span>
LOCATION:Online! https://qtego.net/qlink/lc4yf
UID:e.3575.837
SEQUENCE:3
DTSTAMP:20260423T120345Z
URL:https://business.chisagolakeschamber.com/events/details/lakes-center-45th-anniversary-online-silent-auction-05-10-2021-837
END:VEVENT

END:VCALENDAR
