BEGIN:VCALENDAR
VERSION:2.0
PRODID:-//ChamberMaster//Event Calendar 2.0//EN
METHOD:PUBLISH
X-PUBLISHED-TTL:P3D
REFRESH-INTERVAL:P3D
CALSCALE:GREGORIAN
BEGIN:VEVENT
DTSTART:20220409T180000Z
DTEND:20220409T210000Z
X-MICROSOFT-CDO-ALLDAYEVENT:FALSE
SUMMARY:Leonhardt Team Spring Event
DESCRIPTION:Come see the Leonhardt team and Little Blue's Traveling Zoo at the Uncommon Loon in Chisago City on April 9th from 1PM - 4PM!
X-ALT-DESC;FMTTYPE=text/html:<span style="color: rgb(5\, 5\, 5)\; font-family: &quot\;Segoe UI Historic&quot\;\, &quot\;Segoe UI&quot\;\, Helvetica\, Arial\, sans-serif\; font-size: 15px\; white-space: pre-wrap\;">Come see the Leonhardt team and Little Blue&#39\;s Traveling Zoo at the Uncommon Loon in Chisago City on April 9th from 1PM - 4PM!</span>
LOCATION:Uncommon Loon 10825 Lake Blvd Chisago City\, MN 55013
UID:e.3575.3212
SEQUENCE:3
DTSTAMP:20260421T105818Z
URL:https://business.chisagolakeschamber.com/events/details/leonhardt-team-spring-event-3212
END:VEVENT

END:VCALENDAR
