BEGIN:VCALENDAR
VERSION:2.0
PRODID:-//ChamberMaster//Event Calendar 2.0//EN
METHOD:PUBLISH
X-PUBLISHED-TTL:P3D
REFRESH-INTERVAL:P3D
CALSCALE:GREGORIAN
BEGIN:VEVENT
DTSTART:20221030T173000Z
DTEND:20221030T193000Z
X-MICROSOFT-CDO-ALLDAYEVENT:FALSE
SUMMARY:Libate & Paint: Full Moon Theme\, BOO!
DESCRIPTION:Beginners are more than welcome to join this painting event!  This is not your typical "copy the teacher's painting" class.  Linda will guide you through techniques to make your own special creation!  Sign up and experience a fun\, relaxing afternoon at the Uncommon Loon Brewing Co. in Chisago City.  Uncommon Loon offers a variety of craft beer and flavored hard seltzer.  You can come early and order a Heggie's pizza\, we also offer chips\, meat sticks and cheese.  You are also welcome to bring in your own snacks or order from a local restaurant. \n\n \n\nClass size is limited\, so don't wait\, text or call Linda at 651-343-9691 or you can message her on her "JLaurene" Facebook page (link below).  See you then!!\n\n \n\n"There is no wrong way of doing art. It is an expression of the individual." ~ Swizz Beatz
X-ALT-DESC;FMTTYPE=text/html:<div>Beginners are more than welcome to join this painting event!&nbsp\; This is not your typical &quot\;copy the teacher&#39\;s painting&quot\; class.&nbsp\; Linda will guide you through techniques to make your own special creation!&nbsp\; Sign up and&nbsp\;experience a fun\, relaxing afternoon at the Uncommon Loon Brewing Co. in Chisago City.&nbsp\; Uncommon Loon offers a variety of craft beer and flavored hard seltzer.&nbsp\; You can come early and order a Heggie&#39\;s pizza\, we also offer chips\, meat sticks and cheese.&nbsp\; You are also welcome to bring in your own snacks or order from a local restaurant.&nbsp\;<br />\n&nbsp\;</div>\n\n<div>Class size is limited\, so don&#39\;t wait\, text or call Linda at 651-343-9691 or you can message her on her &quot\;JLaurene&quot\; Facebook page (link below).&nbsp\; See you then!!<br />\n&nbsp\;</div>\n\n<div>&quot\;There is no wrong way of doing art. It is an expression of the individual.&quot\; ~ Swizz Beatz</div>\n
LOCATION:
UID:e.3575.5112
SEQUENCE:3
DTSTAMP:20260422T215112Z
URL:https://business.chisagolakeschamber.com/events/details/libate-paint-full-moon-theme-boo-5112
END:VEVENT

END:VCALENDAR
