BEGIN:VCALENDAR
VERSION:2.0
PRODID:-//ChamberMaster//Event Calendar 2.0//EN
METHOD:PUBLISH
X-PUBLISHED-TTL:P3D
REFRESH-INTERVAL:P3D
CALSCALE:GREGORIAN
BEGIN:VEVENT
DTSTART:20200206T000000Z
DTEND:20200206T020000Z
X-MICROSOFT-CDO-ALLDAYEVENT:FALSE
SUMMARY:Lighted Valentine Pallet Class
DESCRIPTION:These 16x14 wood pallets are amazing and make the perfect gift or keep for yourself. Pick from the saying options in the picture or request a different saying. Cost: $45/person includes all supplies and a yummy craft beer. Did I mention that these light up. Lights provided also. Register with Ami at 320-336-9905.
X-ALT-DESC;FMTTYPE=text/html:<span style="color: rgb(0\, 0\, 0)\; font-family: Roboto\, &quot\;Lucida Grande&quot\;\, arial\, sans-serif\; font-size: 14px\; text-align: justify\;">These 16x14 wood pallets are amazing and make the perfect gift or keep for yourself. Pick from the saying options in the picture or request a different saying. Cost: $45/person includes all supplies and a yummy craft beer. Did I mention that these light up. Lights provided also. Register with Ami at 320-336-9905.&nbsp\;</span>
LOCATION:The Uncommon Loon Brewery 10825 Lake Blvd Chisago City\, MN 55013 651-321-4468
UID:e.3575.177
SEQUENCE:3
DTSTAMP:20260424T151737Z
URL:https://business.chisagolakeschamber.com/events/details/lighted-valentine-pallet-class-177
END:VEVENT

END:VCALENDAR
