BEGIN:VCALENDAR
VERSION:2.0
PRODID:-//ChamberMaster//Event Calendar 2.0//EN
METHOD:PUBLISH
X-PUBLISHED-TTL:P3D
REFRESH-INTERVAL:P3D
CALSCALE:GREGORIAN
BEGIN:VEVENT
DTSTART:20221001T130000Z
DTEND:20221001T170000Z
X-MICROSOFT-CDO-ALLDAYEVENT:FALSE
SUMMARY:Lindstrom Farmers' Market
DESCRIPTION:Lindstrom Farmers' Market is your #1 Source for local produce!
X-ALT-DESC;FMTTYPE=text/html:Lindstrom Farmers&#39\; Market is your #1 Source for local produce!
LOCATION:St. Bridget of Sweden Church Parking Lot 13060 Lake Boulevard Lindstrom\, MN 55045
UID:e.3575.4830
SEQUENCE:3
DTSTAMP:20260422T215732Z
URL:https://business.chisagolakeschamber.com/events/details/lindstrom-farmers-market-10-01-2022-4830
END:VEVENT

END:VCALENDAR
