BEGIN:VCALENDAR
VERSION:2.0
PRODID:-//ChamberMaster//Event Calendar 2.0//EN
METHOD:PUBLISH
X-PUBLISHED-TTL:P3D
REFRESH-INTERVAL:P3D
CALSCALE:GREGORIAN
BEGIN:VEVENT
DTSTART:20221203T223000Z
DTEND:20221204T003000Z
X-MICROSOFT-CDO-ALLDAYEVENT:FALSE
SUMMARY:Lindstrom's Annual Tree Lighting Festival
DESCRIPTION:Walk by a winter wonderland\, take pictures with Santa\, and drop a letter into Santa's mailbox with your Christmas wishes - no need to mail it to the North Pole!  \n\n\n\nReceive a gift bag full of surprise goodies from the Lindstr m Park Commission and from downtown Lindstr m businesses.  Fun for all ages.  \n\n\n\nEnjoy live Christmas music from the High School Band Ensemble & Santa Lucia Carolers.  Stay warm with cocoa\, coffee\, and a bonfire. All events will take place outdoors\, so be sure to bundle up.  See you there!\n\n\n\n*Please bring a donation for the local food shelf.*
X-ALT-DESC;FMTTYPE=text/html:<span style="font-size:14px\;"><span style="font-family:tahoma\;"><span style="color:black">Walk by a winter wonderland\, take pictures with Santa\, and drop a letter into Santa&rsquo\;s mailbox with your Christmas wishes - no need to mail it to the North Pole!&nbsp\; </span><br />\n<br />\n<span style="color:black">Receive a gift bag full of surprise goodies from the Lindstr&ouml\;m Park Commission and from downtown Lindstr&ouml\;m businesses.&nbsp\; Fun for all ages.&nbsp\; </span><br />\n<br />\n<span style="color:black">Enjoy live Christmas music from the High School Band Ensemble &amp\; Santa Lucia Carolers.&nbsp\; Stay warm with cocoa\, coffee\, and a bonfire. All events will take place outdoors\, so be sure to bundle up.&nbsp\; See you there!</span><br />\n<br />\n*Please bring a donation for the local food shelf.*</span></span><br />\n&nbsp\;
LOCATION:Memorial Park 30525 Linden Street Lindstr m\, MN 55045
UID:e.3575.3048
SEQUENCE:3
DTSTAMP:20260422T190530Z
URL:https://business.chisagolakeschamber.com/events/details/lindstrom-s-annual-tree-lighting-festival-3048
END:VEVENT

END:VCALENDAR
