BEGIN:VCALENDAR
VERSION:2.0
PRODID:-//ChamberMaster//Event Calendar 2.0//EN
METHOD:PUBLISH
X-PUBLISHED-TTL:P3D
REFRESH-INTERVAL:P3D
CALSCALE:GREGORIAN
BEGIN:VEVENT
DTSTART:20240211T000000Z
DTEND:20240211T030000Z
X-MICROSOFT-CDO-ALLDAYEVENT:FALSE
SUMMARY:Lindström Park Board Polka Party
DESCRIPTION:Kick up your heels at a good ol' fashioned polka party. If you don't know how to polka\, we'll teach you! FREE admission. Beverages\, German beer\, & food from Deutschland Meats available for purchase. Music by the Bill Koncar Band. Fun for all ages! Sponsored by the City of Lindstr m & Farmers Insurance- Joel Jordet
X-ALT-DESC;FMTTYPE=text/html:Kick up your heels at a good ol&rsquo\; fashioned polka party. If you don&rsquo\;t know how to polka\, we&rsquo\;ll teach you! FREE admission. Beverages\, German beer\, &amp\; food from Deutschland Meats available for purchase. Music by the Bill Koncar Band. Fun for all ages! Sponsored by the City of Lindstr&ouml\;m &amp\; Farmers Insurance- Joel Jordet
LOCATION:Lindstr m Community Center at Lindstr m City Hall 13292 Sylvan Ave.\, Lindstr m\, MN 55045
UID:e.3575.6990
SEQUENCE:3
DTSTAMP:20260420T040528Z
URL:https://business.chisagolakeschamber.com/events/details/lindstr&#246;m-park-board-polka-party-02-10-2024-6990
END:VEVENT

END:VCALENDAR
