BEGIN:VCALENDAR
VERSION:2.0
PRODID:-//ChamberMaster//Event Calendar 2.0//EN
METHOD:PUBLISH
X-PUBLISHED-TTL:P3D
REFRESH-INTERVAL:P3D
CALSCALE:GREGORIAN
BEGIN:VEVENT
DTSTART:20220213T000000Z
DTEND:20220213T030000Z
X-MICROSOFT-CDO-ALLDAYEVENT:FALSE
SUMMARY:Lindstrom Park Board Polka Party
DESCRIPTION:Kick up your heels at a good ol' fashioned polka party.  If you don't know how to polka\, we'll teach you!  FREE admission.  Music by the Chmielewski Funtime Band.  Food from Deutchland Meats & beverages & German beer available for purchase.  Fun for all ages!\n\nSaturday\, Feb. 12th\, 2022            \n\n6pm-9pm\, Lindstr m Community Center
X-ALT-DESC;FMTTYPE=text/html:<span style="font-size:16px">Kick up your heels at a good ol&rsquo\; fashioned polka party.&nbsp\; If you don&rsquo\;t know how to polka\, we&rsquo\;ll teach you!&nbsp\; FREE admission.&nbsp\; Music by the Chmielewski Funtime Band.&nbsp\; Food from Deutchland Meats &amp\; beverages &amp\; German beer available for purchase.&nbsp\; Fun for all ages!</span><br />\n<span style="font-size:20px"><em><span style="font-family:garamond">Saturday\, Feb. 12th\, 2022&nbsp\; &nbsp\; &nbsp\; &nbsp\; &nbsp\; &nbsp\;&nbsp\;</span></em><br />\n<em><span style="font-family:garamond">6pm-9pm\, Lindstr&ouml\;m Community Center</span></em></span><br />\n&nbsp\;
LOCATION:Lindstrom Community Center 13292 Sylvan Ave. Lindstrom\, MN 55045
UID:e.3575.3050
SEQUENCE:3
DTSTAMP:20260421T081843Z
URL:https://business.chisagolakeschamber.com/events/details/lindstr&#246;m-park-board-polka-party-3050
END:VEVENT

END:VCALENDAR
