BEGIN:VCALENDAR
VERSION:2.0
PRODID:-//ChamberMaster//Event Calendar 2.0//EN
METHOD:PUBLISH
X-PUBLISHED-TTL:P3D
REFRESH-INTERVAL:P3D
CALSCALE:GREGORIAN
BEGIN:VEVENT
DTSTART:20200216T200000Z
DTEND:20200216T230000Z
X-MICROSOFT-CDO-ALLDAYEVENT:FALSE
SUMMARY:Live @Al's: Dodge Adair Trio
DESCRIPTION:Local talent: The Dodge Adair Trio
X-ALT-DESC;FMTTYPE=text/html:Local talent: The Dodge Adair Trio<br />\n<br />\n<br />\n<br />\n&nbsp\;
LOCATION:
UID:e.3575.161
SEQUENCE:3
DTSTAMP:20260424T150256Z
URL:https://business.chisagolakeschamber.com/events/details/live-al-s-dodge-adair-trio-161
END:VEVENT

END:VCALENDAR
