BEGIN:VCALENDAR
VERSION:2.0
PRODID:-//ChamberMaster//Event Calendar 2.0//EN
METHOD:PUBLISH
X-PUBLISHED-TTL:P3D
REFRESH-INTERVAL:P3D
CALSCALE:GREGORIAN
BEGIN:VEVENT
DTSTART:20200301T023000Z
DTEND:20200229T063000Z
X-MICROSOFT-CDO-ALLDAYEVENT:FALSE
SUMMARY:Live @Al's: Tailspin
DESCRIPTION:Leap Year means extra time for music! Al's welcomes Tailspin -  tailspinmn.com
X-ALT-DESC;FMTTYPE=text/html:Leap Year means extra time for music! Al&#39\;s welcomes Tailspin -&nbsp\; tailspinmn.com<br />\n<br />\n&nbsp\;
LOCATION:
UID:e.3575.164
SEQUENCE:3
DTSTAMP:20260424T150116Z
URL:https://business.chisagolakeschamber.com/events/details/live-al-s-tailspin-164
END:VEVENT

END:VCALENDAR
