BEGIN:VCALENDAR
VERSION:2.0
PRODID:-//ChamberMaster//Event Calendar 2.0//EN
METHOD:PUBLISH
X-PUBLISHED-TTL:P3D
REFRESH-INTERVAL:P3D
CALSCALE:GREGORIAN
BEGIN:VEVENT
DTSTART:20210513T163000Z
DTEND:20210513T180000Z
X-MICROSOFT-CDO-ALLDAYEVENT:FALSE
SUMMARY:May 13th Chamber Luncheon
DESCRIPTION:Join us for our May 13th Chamber Luncheon!\n\nSpeaker:  Marty Harding\, Northwoods & Waters.org\n\n \nNorth Woods and Waters of the St. Croix Heritage Area is a nationally acclaimed region rich in history and diverse cultural traditions\, with endless connections to the natural world.  Join us!  North Woods and Waters promotes the natural\, cultural\, and historic resources of the St. Croix River watershed and the unique and lasting stories of Native American and European Americans who call this region home.\n\nExplore vast tracts of publicly accessible lands and enjoy access to thousands of lakes and rivers spanning the north woods of Minnesota and Wisconsin.
X-ALT-DESC;FMTTYPE=text/html:Join us for our May 13th Chamber Luncheon!<br />\nSpeaker:&nbsp\; Marty Harding\, Northwoods &amp\; Waters.org<br />\n&nbsp\;\n<p style="box-sizing: border-box\; margin: 0px\; padding: 0px 0px 1em\; border: 0px\; outline: 0px\; font-size: 15px\; text-size-adjust: 100%\; vertical-align: baseline\; background: rgb(255\, 255\, 255)\; color: rgb(102\, 102\, 102)\; font-family: &quot\;Open Sans&quot\;\, Arial\, sans-serif\;"><span style="font-size:12px\;"><span style="font-family:arial\;"><span style="box-sizing: border-box\; margin: 0px\; padding: 0px\; border: 0px\; outline: 0px\; text-size-adjust: 100%\; vertical-align: baseline\; background: transparent\; font-weight: 700\;">North Woods and Waters of the St. Croix Heritage Area&nbsp\;</span>is a nationally acclaimed region rich in history and diverse cultural traditions\, with endless connections to the natural world.&nbsp\; Join us!&nbsp\; North Woods and Waters promotes the natural\, cultural\, and historic resources of the St. Croix River watershed and the unique and lasting stories of Native American and European Americans who call this region home.</span></span></p>\n\n<p style="box-sizing: border-box\; margin: 0px\; padding: 0px\; border: 0px\; outline: 0px\; font-size: 15px\; text-size-adjust: 100%\; vertical-align: baseline\; background: rgb(255\, 255\, 255)\; color: rgb(102\, 102\, 102)\; font-family: &quot\;Open Sans&quot\;\, Arial\, sans-serif\;"><span style="font-size:12px\;"><span style="font-family:arial\;">Explore vast tracts of publicly accessible lands and enjoy access to thousands of lakes and rivers spanning the north woods of Minnesota and Wisconsin.</span></span></p>\n<br />\n<br />\n<br />\n<br />\n&nbsp\;
LOCATION:Taylors Falls Scenic Boat Tours - Patio 220 So. Taylor Street Taylors Falls\, MN 55084
UID:e.3575.820
SEQUENCE:3
DTSTAMP:20260423T115836Z
URL:https://business.chisagolakeschamber.com/events/details/may-13th-chamber-luncheon-820
END:VEVENT

END:VCALENDAR
