BEGIN:VCALENDAR
VERSION:2.0
PRODID:-//ChamberMaster//Event Calendar 2.0//EN
METHOD:PUBLISH
X-PUBLISHED-TTL:P3D
REFRESH-INTERVAL:P3D
CALSCALE:GREGORIAN
BEGIN:VEVENT
DTSTART:20200117T003000Z
DTEND:20200117T033000Z
X-MICROSOFT-CDO-ALLDAYEVENT:FALSE
SUMMARY:Mean Gene and the Woodticks at the Loon
DESCRIPTION:Come join the Ticks for an evening of music and craft beer. It's a great way to get the New Year rolling.
X-ALT-DESC;FMTTYPE=text/html:Come join the Ticks for an evening of music and craft beer. It&#39\;s a great way to get the New Year rolling.&nbsp\;
LOCATION:Uncommon Loon Brewing Company 10825 Lake Blvd\, Chisago City
UID:e.3575.157
SEQUENCE:3
DTSTAMP:20260424T163027Z
URL:https://business.chisagolakeschamber.com/events/details/mean-gene-and-the-woodticks-at-the-loon-157
END:VEVENT

END:VCALENDAR
