BEGIN:VCALENDAR
VERSION:2.0
PRODID:-//ChamberMaster//Event Calendar 2.0//EN
METHOD:PUBLISH
X-PUBLISHED-TTL:P3D
REFRESH-INTERVAL:P3D
CALSCALE:GREGORIAN
BEGIN:VEVENT
DTSTART:20200716T223000Z
DTEND:20200717T013000Z
X-MICROSOFT-CDO-ALLDAYEVENT:FALSE
SUMMARY:Mean Gene and the Woodticks - LIVE at the Loon
DESCRIPTION:Come join the Ticks for an evening of music and craft beer.
X-ALT-DESC;FMTTYPE=text/html:<div>Come join the Ticks for an evening of music and craft beer.</div>\n
LOCATION:Uncommon Loon Brewing Co 10825 Lake Blvd Chisago City MN
UID:e.3575.265
SEQUENCE:3
DTSTAMP:20260424T090529Z
URL:https://business.chisagolakeschamber.com/events/details/mean-gene-and-the-woodticks-live-at-the-loon-265
END:VEVENT

END:VCALENDAR
