BEGIN:VCALENDAR
VERSION:2.0
PRODID:-//ChamberMaster//Event Calendar 2.0//EN
METHOD:PUBLISH
X-PUBLISHED-TTL:P3D
REFRESH-INTERVAL:P3D
CALSCALE:GREGORIAN
BEGIN:VEVENT
DTSTART:20221217T170000Z
DTEND:20221217T190000Z
X-MICROSOFT-CDO-ALLDAYEVENT:FALSE
SUMMARY:Meet Santa at Express Employment and take a FREE picture!
DESCRIPTION:Come meet Santa at Express Employment of Forest Lake! Bring your kiddos and take a FREE picture!
X-ALT-DESC;FMTTYPE=text/html:Come meet Santa at Express Employment of Forest Lake! Bring your kiddos and take a FREE picture!&nbsp\;
LOCATION:1500 Lake St. South #100 Forest Lake MN 55025
UID:e.3575.5345
SEQUENCE:3
DTSTAMP:20260422T191644Z
URL:https://business.chisagolakeschamber.com/events/details/meet-santa-at-express-employment-and-take-a-free-picture-5345
END:VEVENT

END:VCALENDAR
