BEGIN:VCALENDAR
VERSION:2.0
PRODID:-//ChamberMaster//Event Calendar 2.0//EN
METHOD:PUBLISH
X-PUBLISHED-TTL:P3D
REFRESH-INTERVAL:P3D
CALSCALE:GREGORIAN
BEGIN:VEVENT
DTSTART:20220530T170000Z
DTEND:20220530T200000Z
X-MICROSOFT-CDO-ALLDAYEVENT:FALSE
SUMMARY:Memorial Day Celebration
DESCRIPTION:A Memorial Day Celebration will be held at the Pavilion at Veterans Campground on Big Marine Lake followed by a picnic. All are invited. Please bring a side dish or desert to share.
X-ALT-DESC;FMTTYPE=text/html:A Memorial Day Celebration will be held at the Pavilion at Veterans Campground on Big Marine Lake followed by a picnic. All are invited. Please bring a side dish or desert to share.
LOCATION:Veterans Campground on Big Marine Lake 11300 180th Street N Marine on the St. Croix\, MN 55047
UID:e.3575.4281
SEQUENCE:3
DTSTAMP:20260421T115421Z
URL:https://business.chisagolakeschamber.com/events/details/memorial-day-celebration-4281
END:VEVENT

END:VCALENDAR
