BEGIN:VCALENDAR
VERSION:2.0
PRODID:-//ChamberMaster//Event Calendar 2.0//EN
METHOD:PUBLISH
X-PUBLISHED-TTL:P3D
REFRESH-INTERVAL:P3D
CALSCALE:GREGORIAN
BEGIN:VEVENT
DTSTART;VALUE=DATE:20220530
DTEND;VALUE=DATE:20220531
TRANSP:TRANSPARENT
X-MICROSOFT-CDO-ALLDAYEVENT:TRUE
SUMMARY:Memorial Day Paddle
DESCRIPTION:An annual paddling event on Memorial Day on the Chisago Lakes Water Trail for canoe\, kayak and paddleboard enthusiasts! Visit Lindstrom's new island on the Chisago Lakes Water Trail!
X-ALT-DESC;FMTTYPE=text/html:<p style="box-sizing: border-box\; margin: 0px\; padding: 0px\; border: 0px\; font-variant-numeric: inherit\; font-variant-east-asian: inherit\; font-stretch: inherit\; line-height: inherit\; font-family: &quot\;Helvetica Neue&quot\;\, Helvetica\, Arial\, sans-serif\; font-size: 14px\; vertical-align: baseline\; color: rgb(68\, 68\, 68)\;">An annual paddling&nbsp\;event on Memorial Day on the&nbsp\;<a href="http://www.chisagolakeswatertrail.com/" style="box-sizing: border-box\; margin: 0px\; padding: 0px\; border: 0px\; font-style: inherit\; font-variant: inherit\; font-weight: inherit\; font-stretch: inherit\; line-height: inherit\; font-family: inherit\; vertical-align: baseline\; text-decoration-line: none\; color: rgb(119\, 20\, 25)\;" target="_blank"><strong style="box-sizing: border-box\; margin: 0px\; padding: 0px\; border: 0px\; font-style: inherit\; font-variant: inherit\; font-stretch: inherit\; line-height: inherit\; font-family: inherit\; vertical-align: baseline\;">Chisago Lakes Water Trail</strong></a>&nbsp\;for canoe\, kayak and paddleboard enthusiasts! Visit Lindstrom&#39\;s new island on the Chisago Lakes Water Trail!</p>\n
LOCATION:Start at Kichisaga Park\, or the 292nd DNR Boat Landing in Lindstrom\, or wherever\, paddle north to Minnes and on to Center City for lunch. See website or Facebook links provided here. For more information or to be added to the "Chisago Lakes Paddle Club\," contact Bill Mack at macklandscaping@gmail.com.
UID:e.3575.3405
SEQUENCE:3
DTSTAMP:20260421T114857Z
URL:https://business.chisagolakeschamber.com/events/details/memorial-day-paddle-3405
END:VEVENT

END:VCALENDAR
