BEGIN:VCALENDAR
VERSION:2.0
PRODID:-//ChamberMaster//Event Calendar 2.0//EN
METHOD:PUBLISH
X-PUBLISHED-TTL:P3D
REFRESH-INTERVAL:P3D
CALSCALE:GREGORIAN
BEGIN:VEVENT
DTSTART:20220529T161500Z
DTEND:20220529T171500Z
X-MICROSOFT-CDO-ALLDAYEVENT:FALSE
SUMMARY:Memorial Day Worship Service @ Chisago Lake Lutheran Cemetery
DESCRIPTION:A Memorial Day Worship Service will be held n the Lower Cemetery on Sunday\, May 29th at 11:15 am. Join us to honor & remember those who have died that served in our military. There will not be a service on Monday the 30th.
X-ALT-DESC;FMTTYPE=text/html:A Memorial Day Worship Service will be held n the Lower Cemetery on Sunday\, May 29th at 11:15 am. Join us to honor &amp\; remember those who have died that served in our military. There will not be a service on Monday the 30th.
LOCATION:Chisago Lake Lutheran Church Lower Cemetery 1 Summit Avenue Center City\, MN 55012
UID:e.3575.4280
SEQUENCE:3
DTSTAMP:20260421T130755Z
URL:https://business.chisagolakeschamber.com/events/details/memorial-day-worship-service-chisago-lake-lutheran-cemetery-4280
END:VEVENT

END:VCALENDAR
