BEGIN:VCALENDAR
VERSION:2.0
PRODID:-//ChamberMaster//Event Calendar 2.0//EN
METHOD:PUBLISH
X-PUBLISHED-TTL:P3D
REFRESH-INTERVAL:P3D
CALSCALE:GREGORIAN
BEGIN:VEVENT
DTSTART:20200220T003000Z
DTEND:20200220T011500Z
X-MICROSOFT-CDO-ALLDAYEVENT:FALSE
SUMMARY:Mental Health & Faith Series
DESCRIPTION:Issues of anxiety and depression are quickly on the rise in our country\, especially affecting our young people. It's important to educate ourselves\, know the signs\, and experience how God is an active part of our mental health\, as well as our spiritual health.\n\nChisago Lake Lutheran Church will host three Wednesday sessions\, meeting in the Green Room. This is a part of "Midweek @ Chisago Lake"\, so join us for the meal at 5:30 and a short worship service at 6:00pm.\n\nOur presenter will be Rev. Dr. Gary Wilkerson - pastor\, professor\, and mental health expert. He will also preach in worship on Wednesday\, February 5th at 6:00pm and Sunday\, February 9th at 9:00am. All are welcome\, invite a friend.
X-ALT-DESC;FMTTYPE=text/html:<p style="margin: 0px\; padding: 0px\; color: rgb(0\, 0\, 0)\; font-family: Roboto\, &quot\;Lucida Grande&quot\;\, arial\, sans-serif\; font-size: 14px\;">Issues of anxiety and depression are quickly on the rise in our country\, especially affecting our young people. It&#39\;s important to educate ourselves\, know the signs\, and experience how God is an active part of our mental health\, as well as our spiritual health.</p>\n\n<p style="margin: 0px\; padding: 0px\; color: rgb(0\, 0\, 0)\; font-family: Roboto\, &quot\;Lucida Grande&quot\;\, arial\, sans-serif\; font-size: 14px\; text-align: justify\;">Chisago Lake Lutheran Church will host three Wednesday sessions\, meeting in the Green Room. This is a part of &quot\;Midweek @ Chisago Lake&quot\;\, so join us for the meal at 5:30 and a short worship service at 6:00pm.</p>\n\n<p style="margin: 0px\; padding: 0px\; color: rgb(0\, 0\, 0)\; font-family: Roboto\, &quot\;Lucida Grande&quot\;\, arial\, sans-serif\; font-size: 14px\; text-align: justify\;">Our presenter will be Rev. Dr. Gary Wilkerson - pastor\, professor\, and mental health expert. He will also preach in worship on Wednesday\, February 5th at 6:00pm and Sunday\, February 9th at 9:00am. All are welcome\, invite a friend.</p>\n
LOCATION:Chisago Lake Lutheran Church 1 Summit Ave Center City\, MN 55012 651-257-6300
UID:e.3575.188
SEQUENCE:3
DTSTAMP:20260424T150544Z
URL:https://business.chisagolakeschamber.com/events/details/mental-health-faith-series-02-19-2020-188
END:VEVENT

END:VCALENDAR
