BEGIN:VCALENDAR
VERSION:2.0
PRODID:-//ChamberMaster//Event Calendar 2.0//EN
METHOD:PUBLISH
X-PUBLISHED-TTL:P3D
REFRESH-INTERVAL:P3D
CALSCALE:GREGORIAN
BEGIN:VEVENT
DTSTART:20201210T183000Z
DTEND:20201210T230000Z
X-MICROSOFT-CDO-ALLDAYEVENT:FALSE
SUMMARY:Mental Health First Aid
DESCRIPTION:Mental Health First Aid (MHFA) introduces the risk factors and warning signs of common mental health and substance use disorders\, builds understanding of their impact\, and reviews support options. The interactive course teaches participants how to offer initial help to an individual who may be experiencing a mental health concern or crisis and connect them to the appropriate professional\, peer\, social\, and self-care resources. MHFA is currently being offered in a hybrid format of two hours of self-study and four and a half hours of live virtual group learning. Register HERE
X-ALT-DESC;FMTTYPE=text/html:<span style="color: rgb(102\, 102\, 102)\; font-family: Roboto\, &quot\;Lucida Grande&quot\;\, arial\, sans-serif\; font-size: 14px\; text-align: justify\;">Mental Health First Aid (MHFA) introduces the risk factors and warning signs of common mental health and substance use disorders\, builds understanding of their impact\, and reviews support options. The interactive course teaches participants how to offer initial help to an individual who may be experiencing a mental health concern or crisis and connect them to the appropriate professional\, peer\, social\, and self-care resources. MHFA is currently being offered in a hybrid format of two hours of self-study and four and a half hours of live virtual group learning.&nbsp\;</span><span style="font-weight: 700\; color: rgb(102\, 102\, 102)\; font-family: Roboto\, &quot\;Lucida Grande&quot\;\, arial\, sans-serif\; font-size: 14px\; text-align: justify\;">Register&nbsp\;</span><span style="font-weight: 700\; color: rgb(102\, 102\, 102)\; font-family: Roboto\, &quot\;Lucida Grande&quot\;\, arial\, sans-serif\; font-size: 14px\; text-align: justify\;"><a data-id="l-7821504291" href="https://mhfavirtual16.eventbrite.com/" o-href="https%3A%2F%2Fmhfavirtual16.eventbrite.com%2F" rel="nofollow" style="cursor: pointer\; color: rgb(28\, 110\, 152)\;" target="_blank" track-href="https://www.smore.com/app/reporting/out/w2zsh?u=https%253A%252F%252Fmhfavirtual16.eventbrite.com%252F&amp\;t=HERE&amp\;w=w-3657654579&amp\;i=&amp\;l=l-7821504291">HERE</a></span>
LOCATION:
UID:e.3575.333
SEQUENCE:3
DTSTAMP:20260424T035540Z
URL:https://business.chisagolakeschamber.com/events/details/mental-health-first-aid-333
END:VEVENT

END:VCALENDAR
