BEGIN:VCALENDAR
VERSION:2.0
PRODID:-//ChamberMaster//Event Calendar 2.0//EN
METHOD:PUBLISH
X-PUBLISHED-TTL:P3D
REFRESH-INTERVAL:P3D
CALSCALE:GREGORIAN
BEGIN:VEVENT
DTSTART:20200208T140000Z
DTEND:20200208T190000Z
X-MICROSOFT-CDO-ALLDAYEVENT:FALSE
SUMMARY:Mental Wellness Fair
DESCRIPTION:Session One: 'In Your Own Voice'\n\nSession Two: 'Creating Caring Faith Communities in Minnesota-Five Thing You Can Do\n\nSponsored by the Health Ministry Team of Zion Lutheran Church. Grant from Fairview Health Ministries. \n\nResource Tables\, Door Prizes\, Speaker from NAMI\, Free morning refreshments and lunch.
X-ALT-DESC;FMTTYPE=text/html:Session One: &#39\;In Your Own Voice&#39\;<br />\nSession Two: &#39\;Creating Caring Faith Communities in Minnesota-Five Thing You Can Do<br />\nSponsored by the Health Ministry Team of Zion Lutheran Church. Grant from Fairview Health Ministries.&nbsp\;<br />\nResource Tables\, Door Prizes\, Speaker from NAMI\, Free morning refreshments and lunch.&nbsp\;
LOCATION:Zion Lutheran Church 28005 Old Towne Road Chisago City\, MN 55013 651-257-2713
UID:e.3575.165
SEQUENCE:3
DTSTAMP:20260424T144839Z
URL:https://business.chisagolakeschamber.com/events/details/mental-wellness-fair-165
END:VEVENT

END:VCALENDAR
