BEGIN:VCALENDAR
VERSION:2.0
PRODID:-//ChamberMaster//Event Calendar 2.0//EN
METHOD:PUBLISH
X-PUBLISHED-TTL:P3D
REFRESH-INTERVAL:P3D
CALSCALE:GREGORIAN
BEGIN:VEVENT
DTSTART:20200208T180000Z
DTEND:20200208T200000Z
X-MICROSOFT-CDO-ALLDAYEVENT:FALSE
SUMMARY:Minecraft Club
DESCRIPTION:Join Minecraft Club for building challenges and general Minecraft fun! Recommended for ages 7-12. Children under age 9 need to be accompanied by an adult. Registration required. Please register each player individually. Space is limited!Join Minecraft Club for building challenges and general Minecraft fun! Recommended for ages 7-12. Children under age 9 need to be accompanied by an adult. Registration required. Please register each player individually. Space is limited!
X-ALT-DESC;FMTTYPE=text/html:<span style="color: rgb(0\, 0\, 0)\; font-family: Roboto\, &quot\;Lucida Grande&quot\;\, arial\, sans-serif\; font-size: 14px\; text-align: justify\;">Join Minecraft Club for building challenges and general Minecraft fun! Recommended for ages 7-12. Children under age 9 need to be accompanied by an adult. Registration required. Please register each player individually. Space is limited!Join Minecraft Club for building challenges and general Minecraft fun! Recommended for ages 7-12. Children under age 9 need to be accompanied by an adult. Registration required. Please register each player individually. Space is limited!</span>
LOCATION:Chisago Lakes Library 11754 302nd Street Chisago City\, MN 55013 651-257-2817
UID:e.3575.181
SEQUENCE:3
DTSTAMP:20260424T150015Z
URL:https://business.chisagolakeschamber.com/events/details/minecraft-club-181
END:VEVENT

END:VCALENDAR
