BEGIN:VCALENDAR
VERSION:2.0
PRODID:-//ChamberMaster//Event Calendar 2.0//EN
METHOD:PUBLISH
X-PUBLISHED-TTL:P3D
REFRESH-INTERVAL:P3D
CALSCALE:GREGORIAN
BEGIN:VEVENT
DTSTART:20200118T180000Z
DTEND:20200118T200000Z
X-MICROSOFT-CDO-ALLDAYEVENT:FALSE
SUMMARY:Minecraft Club
DESCRIPTION:Join Minecraft Club for building challenges and general Minecraft fun! Recommended for ages 7-12. Children under age 9 need to be accompanied by an adult. Registration required. Please register each player individually. Space is limited!
X-ALT-DESC;FMTTYPE=text/html:Join Minecraft Club for building challenges and general Minecraft fun! Recommended for ages 7-12. Children under age 9 need to be accompanied by an adult. Registration required. Please register each player individually. Space is limited!
LOCATION:Chisago Lakes Library 11754 302nd St\, Chisago City
UID:e.3575.8
SEQUENCE:3
DTSTAMP:20260424T162457Z
URL:https://business.chisagolakeschamber.com/events/details/minecraft-club-8
END:VEVENT

END:VCALENDAR
