BEGIN:VCALENDAR
VERSION:2.0
PRODID:-//ChamberMaster//Event Calendar 2.0//EN
METHOD:PUBLISH
X-PUBLISHED-TTL:P3D
REFRESH-INTERVAL:P3D
CALSCALE:GREGORIAN
BEGIN:VEVENT
DTSTART:20210626T170000Z
DTEND:20210627T010000Z
X-MICROSOFT-CDO-ALLDAYEVENT:FALSE
SUMMARY:Mobile Escape Room @ Uncommon Loon Brewing Co.
DESCRIPTION:Have you been curious about what an escape room is all about? Now is the time to try it with Breakout Route - Minnesota's first Mobile Escape Room. We bring our 26 foot fully climate controlled escape experience to you.\n\nWe are coming to Uncommon Loon Brewing Co. and you can enjoy great local beer and test your skills with Minnesota's only mobile escape room.
X-ALT-DESC;FMTTYPE=text/html:<div>Have you been curious about what an escape room is all about? Now is the time to try it with Breakout Route - Minnesota&#39\;s first Mobile Escape Room. We bring our 26 foot fully climate controlled escape experience to you.</div>\n\n<div>We are coming to Uncommon Loon Brewing Co. and you can enjoy great local beer and test your skills with Minnesota&#39\;s only mobile escape room.</div>\n
LOCATION:Uncommon Loon Brewing Co.\, Chisago City
UID:e.3575.1126
SEQUENCE:3
DTSTAMP:20260423T105433Z
URL:https://business.chisagolakeschamber.com/events/details/mobile-escape-room-1126
END:VEVENT

END:VCALENDAR
