BEGIN:VCALENDAR
VERSION:2.0
PRODID:-//ChamberMaster//Event Calendar 2.0//EN
METHOD:PUBLISH
X-PUBLISHED-TTL:P3D
REFRESH-INTERVAL:P3D
CALSCALE:GREGORIAN
BEGIN:VEVENT
DTSTART:20260409T163000Z
DTEND:20260409T180000Z
X-MICROSOFT-CDO-ALLDAYEVENT:FALSE
SUMMARY:Monthly Luncheon: April 2026
DESCRIPTION:Monthly Chamber Luncheon\n\nJoin us for our monthly Chamber Luncheon?an excellent opportunity to build connections\, exchange ideas\, and gain valuable insight into today?s business and community landscape.\n\nLocation: Lindstrom Senior Living \n\nFeatured Speakers:\n\n\n	\n	Kathy Lindo\, Chisago County HRA Business Specialist \n\n	Presenting on two new grant opportunities available to businesses with Chisago County \n	\n\n\nCatering: The Old Log Cabin \n\nWe understand that schedules can change. If you need to cancel\, please do so by Tuesday\, April 7th by noon. Any cancellations made after that time will still be invoiced. Thank you for your understanding.
X-ALT-DESC;FMTTYPE=text/html:<p data-end="118" data-start="88"><strong data-end="116" data-start="88">Monthly Chamber Luncheon</strong></p>\n\n<p data-end="298" data-start="120">Join us for our monthly Chamber Luncheon?an excellent opportunity to build connections\, exchange ideas\, and gain valuable insight into today?s business and community landscape.</p>\n\n<p data-end="386" data-start="300"><strong data-end="313" data-start="300">Location:</strong>&nbsp\;Lindstrom Senior Living&nbsp\;</p>\n\n<p data-end="386" data-start="300"><strong data-end="384" data-start="362">Featured Speakers:</strong></p>\n\n<ul data-end="531" data-start="387">\n	<li data-end="468" data-start="387">\n	<p data-end="468" data-start="389">Kathy Lindo\, Chisago County HRA Business Specialist&nbsp\;<br />\n	Presenting on two new grant opportunities available to businesses with Chisago County&nbsp\;</p>\n	</li>\n</ul>\n\n<p data-end="568" data-start="533"><strong data-end="546" data-start="533">Catering: The Old Log Cabin&nbsp\;</strong></p>\n\n<p data-end="981" data-start="771">We understand that schedules can change. If you need to cancel\, please do so by Tuesday\, April&nbsp\;7th by noon. Any cancellations made after that time will still be invoiced. Thank you for your understanding.</p>\n
LOCATION:
UID:e.3575.9097
SEQUENCE:3
DTSTAMP:20260422T144425Z
URL:https://business.chisagolakeschamber.com/events/details/monthly-luncheon-april-2026-9097
END:VEVENT

END:VCALENDAR
