BEGIN:VCALENDAR
VERSION:2.0
PRODID:-//ChamberMaster//Event Calendar 2.0//EN
METHOD:PUBLISH
X-PUBLISHED-TTL:P3D
REFRESH-INTERVAL:P3D
CALSCALE:GREGORIAN
BEGIN:VEVENT
DTSTART:20230209T173000Z
DTEND:20230209T190000Z
X-MICROSOFT-CDO-ALLDAYEVENT:FALSE
SUMMARY:Monthly Luncheon: February 2023
DESCRIPTION:Join us every month for our luncheon. This is a great opportunity for networking connection and learning information about today's business climate.\n\n\n\nThis month's luncheon will be a networking event so bring your business cards if you would like!
X-ALT-DESC;FMTTYPE=text/html:<span style="font-size:14px\;">Join us every month for our luncheon. This is a great opportunity for networking connection and learning information about today&#39\;s business climate.<br />\n<br />\nThis month&#39\;s luncheon will be a networking event so bring your business cards if you would like!</span><br />\n<br />\n&nbsp\;
LOCATION:Chisago Lakes Grill 12975 292nd Street Lindstrom\, MN 55045
UID:e.3575.5475
SEQUENCE:3
DTSTAMP:20260422T174140Z
URL:https://business.chisagolakeschamber.com/events/details/monthly-luncheon-february-2023-5475
END:VEVENT

END:VCALENDAR
