BEGIN:VCALENDAR
VERSION:2.0
PRODID:-//ChamberMaster//Event Calendar 2.0//EN
METHOD:PUBLISH
X-PUBLISHED-TTL:P3D
REFRESH-INTERVAL:P3D
CALSCALE:GREGORIAN
BEGIN:VEVENT
DTSTART:20240208T173000Z
DTEND:20240208T190000Z
X-MICROSOFT-CDO-ALLDAYEVENT:FALSE
SUMMARY:Monthly Luncheon: February 2024
DESCRIPTION:Join us every month for our luncheon. This is a great opportunity for networking connection and learning information about today's business climate.\n\n\n\nFebruary Luncheon:\n\nLocation: Zion Lutheran Church\n\nSpeaker: Michael Wilhelmi\n\nFood: Don Julio's\n\n\n\nWe understand that plans can change. We ask that you cancel by Tuesday the 7th by 12pm.  Any cancellations after that will still be invoiced. Thank you for your understanding.
X-ALT-DESC;FMTTYPE=text/html:<span style="font-size:14px\;">Join us every month for our luncheon. This is a great opportunity for networking connection and learning information about today&#39\;s business climate.</span><br />\n<br />\nFebruary Luncheon:<br />\nLocation: Zion Lutheran Church<br />\nSpeaker: Michael Wilhelmi<br />\nFood: Don Julio&#39\;s<br />\n<br />\nWe understand that plans can change. We ask that you cancel by Tuesday the 7th by 12pm.&nbsp\; Any cancellations after that will still be invoiced. Thank you for your understanding.&nbsp\;
LOCATION:Zion Lutheran Church 28005 Old Towne Rd. Chisago City\, MN 55013
UID:e.3575.7002
SEQUENCE:3
DTSTAMP:20260420T021633Z
URL:https://business.chisagolakeschamber.com/events/details/monthly-luncheon-february-2024-7002
END:VEVENT

END:VCALENDAR
