BEGIN:VCALENDAR
VERSION:2.0
PRODID:-//ChamberMaster//Event Calendar 2.0//EN
METHOD:PUBLISH
X-PUBLISHED-TTL:P3D
REFRESH-INTERVAL:P3D
CALSCALE:GREGORIAN
BEGIN:VEVENT
DTSTART:20240111T173000Z
DTEND:20240111T190000Z
X-MICROSOFT-CDO-ALLDAYEVENT:FALSE
SUMMARY:Monthly Luncheon: January 2024
DESCRIPTION:Join us every month for our luncheon. This is a great opportunity for networking connection and learning information about today's business climate.\n\n\n\nOur January luncheon will be a networking luncheon held at the Lindstrom Fire Station's new location. Please park in the rear parking lot. Thank you! \n\n\n\nWe understand that plans can change. We ask that you cancel by Tuesday the 9th by 12pm.  Any cancellations after that will still be invoiced. Thank you for your understanding.
X-ALT-DESC;FMTTYPE=text/html:<span style="font-size:14px\;">Join us every month for our luncheon. This is a great opportunity for networking connection and learning information about today&#39\;s business climate.<br />\n<br />\nOur January luncheon will be a networking luncheon held at the Lindstrom Fire Station&#39\;s new location. Please park in the rear parking lot. Thank you!&nbsp\;</span><br />\n<br />\nWe understand that plans can change. We ask that you cancel by Tuesday the 9th by 12pm.&nbsp\; Any cancellations after that will still be invoiced. Thank you for your understanding.&nbsp\;
LOCATION:Lindstrom Fire Department 13290 Newlander Ave Lindstrom\, MN\, 55045
UID:e.3575.6996
SEQUENCE:3
DTSTAMP:20260420T004941Z
URL:https://business.chisagolakeschamber.com/events/details/monthly-luncheon-january-2024-6996
END:VEVENT

END:VCALENDAR
