BEGIN:VCALENDAR
VERSION:2.0
PRODID:-//ChamberMaster//Event Calendar 2.0//EN
METHOD:PUBLISH
X-PUBLISHED-TTL:P3D
REFRESH-INTERVAL:P3D
CALSCALE:GREGORIAN
BEGIN:VEVENT
DTSTART:20220714T163000Z
DTEND:20220714T180000Z
X-MICROSOFT-CDO-ALLDAYEVENT:FALSE
SUMMARY:Monthly Luncheon: July 2022
DESCRIPTION:Join us every month for our luncheon. This is a great opportunity for networking connection and learning information about today's business climate.
X-ALT-DESC;FMTTYPE=text/html:<span style="font-size:14px\;">Join us every month for our luncheon. This is a great opportunity for networking connection and learning information about today&#39\;s business climate.</span><br />\n&nbsp\;
LOCATION:Panola Valley Gardens 26026 Olinda Trail Lindstrom\, MN 55045
UID:e.3575.3414
SEQUENCE:3
DTSTAMP:20260423T043510Z
URL:https://business.chisagolakeschamber.com/events/details/monthly-luncheon-july-2022-3414
END:VEVENT

END:VCALENDAR
