BEGIN:VCALENDAR
VERSION:2.0
PRODID:-//ChamberMaster//Event Calendar 2.0//EN
METHOD:PUBLISH
X-PUBLISHED-TTL:P3D
REFRESH-INTERVAL:P3D
CALSCALE:GREGORIAN
BEGIN:VEVENT
DTSTART:20220609T163000Z
DTEND:20220609T180000Z
X-MICROSOFT-CDO-ALLDAYEVENT:FALSE
SUMMARY:Monthly Luncheon: June 2022
DESCRIPTION:Join us every month for our luncheon. This is a great opportunity for networking connection and learning information about today's business climate.\n\n\n\nRick Olseen with Let's Go Fishing will be our luncheon speaker this month.
X-ALT-DESC;FMTTYPE=text/html:<span style="font-size:14px\;">Join us every month for our luncheon. This is a great opportunity for networking connection and learning information about today&#39\;s business climate.<br />\n<br />\n<font color="#000000" face="Roboto\, Lucida Grande\, arial\, sans-serif">Rick Olseen with Let&#39\;s Go Fishing will be our luncheon speaker this month.</font></span>
LOCATION:Chisago Lakes Area Library Community Room 11754 302nd Street Chisago City MN 55013
UID:e.3575.3237
SEQUENCE:3
DTSTAMP:20260423T031632Z
URL:https://business.chisagolakeschamber.com/events/details/monthly-luncheon-june-2022-3237
END:VEVENT

END:VCALENDAR
