BEGIN:VCALENDAR
VERSION:2.0
PRODID:-//ChamberMaster//Event Calendar 2.0//EN
METHOD:PUBLISH
X-PUBLISHED-TTL:P3D
REFRESH-INTERVAL:P3D
CALSCALE:GREGORIAN
BEGIN:VEVENT
DTSTART:20220310T173000Z
DTEND:20220310T190000Z
X-MICROSOFT-CDO-ALLDAYEVENT:FALSE
SUMMARY:Monthly Luncheon: March 2022
DESCRIPTION:Join us every month for our luncheon. This is a great opportunity for networking connection and learning information about today's business climate.
X-ALT-DESC;FMTTYPE=text/html:Join us every month for our luncheon. This is a great opportunity for networking connection and learning information about today&#39\;s business climate.
LOCATION:Chisago Lakes Grill 12975 292nd Street Lindstrom\, MN 55045
UID:e.3575.3072
SEQUENCE:3
DTSTAMP:20260421T094501Z
URL:https://business.chisagolakeschamber.com/events/details/monthly-luncheon-march-2022-3072
END:VEVENT

END:VCALENDAR
