BEGIN:VCALENDAR
VERSION:2.0
PRODID:-//ChamberMaster//Event Calendar 2.0//EN
METHOD:PUBLISH
X-PUBLISHED-TTL:P3D
REFRESH-INTERVAL:P3D
CALSCALE:GREGORIAN
BEGIN:VEVENT
DTSTART:20240314T163000Z
DTEND:20240314T180000Z
X-MICROSOFT-CDO-ALLDAYEVENT:FALSE
SUMMARY:Monthly Luncheon: March 2024
DESCRIPTION:Join us every month for our luncheon. This is a great opportunity for networking connection and learning information about today's business climate.\n\n\n\nSpeaker: Gina Horkey\, Personal Trainer UnderMuscled.com\n\nLocation: Uncommon Loon\n\nFood: Subway\n\n\n\nWe understand that plans can change. We ask that you cancel by\, Tuesday\, March\,12th by 11am.  Any cancellations after that will still be invoiced. Thank you for your understanding.
X-ALT-DESC;FMTTYPE=text/html:Join us every month for our luncheon. This is a great opportunity for networking connection and learning information about today&#39\;s business climate.<br />\n<br />\n<strong>Speaker: Gina Horkey\, Personal Trainer UnderMuscled.com<br />\nLocation: Uncommon Loon<br />\nFood: Subway</strong><br />\n<br />\n<span style="font-size:14px\;"><span style="color: rgb(68\, 68\, 68)\; font-family: Arial\, Helvetica\, sans-serif\;">We understand that plans can change. We ask that you cancel by\, Tuesday\, March\,12th by 11am.&nbsp\; Any cancellations after that will still be invoiced. Thank you for your understanding.&nbsp\;</span></span>
LOCATION:Location: Uncommon Loon
UID:e.3575.7018
SEQUENCE:3
DTSTAMP:20260420T035904Z
URL:https://business.chisagolakeschamber.com/events/details/monthly-luncheon-march-2024-7018
END:VEVENT

END:VCALENDAR
