BEGIN:VCALENDAR
VERSION:2.0
PRODID:-//ChamberMaster//Event Calendar 2.0//EN
METHOD:PUBLISH
X-PUBLISHED-TTL:P3D
REFRESH-INTERVAL:P3D
CALSCALE:GREGORIAN
BEGIN:VEVENT
DTSTART:20220512T163000Z
DTEND:20220512T180000Z
X-MICROSOFT-CDO-ALLDAYEVENT:FALSE
SUMMARY:Monthly Luncheon: May 2022
DESCRIPTION:Join us every month for our luncheon. This is a great opportunity for networking connection and learning information about today's business climate.\n\n\n\nThis month SBDC Consultant Kathy Lindo will be speaking about transition planning for your business. Are you prepared for what's next? Being in business\, we plan for most everything: the next trend\, big idea\, turn in the market\, expected and unexpected events. How do you position your business for the future? Come and learn how to prepare for "What's Next."  \n\nLunch will be catered in.
X-ALT-DESC;FMTTYPE=text/html:<span style="font-size:14px\;">Join us every month for our luncheon. This is a great opportunity for networking connection and learning information about today&#39\;s business climate.<br />\n<br />\nThis month SBDC Consultant Kathy Lindo will be speaking about t<span style="color: rgb(0\, 0\, 0)\; font-family: Roboto\, &quot\;Lucida Grande&quot\;\, arial\, sans-serif\;">ransition planning for your business. Are you prepared for what&#39\;s next? Being in business\, we plan for most everything: the next trend\, big idea\, turn in the market\, expected and unexpected events. How do you position your business for the future? Come and learn how to prepare for &quot\;What&#39\;s Next.&quot\;&nbsp\;&nbsp\;<br />\nLunch will be catered in.</span></span>
LOCATION:Chisago Lakes Chamber Office 30525 Linden Street Lindstrom\, MN 55045
UID:e.3575.3236
SEQUENCE:3
DTSTAMP:20260421T115201Z
URL:https://business.chisagolakeschamber.com/events/details/monthly-luncheon-may-2022-3236
END:VEVENT

END:VCALENDAR
