BEGIN:VCALENDAR
VERSION:2.0
PRODID:-//ChamberMaster//Event Calendar 2.0//EN
METHOD:PUBLISH
X-PUBLISHED-TTL:P3D
REFRESH-INTERVAL:P3D
CALSCALE:GREGORIAN
BEGIN:VEVENT
DTSTART:20221013T163000Z
DTEND:20221013T180000Z
X-MICROSOFT-CDO-ALLDAYEVENT:FALSE
SUMMARY:Monthly Luncheon: October 2022
DESCRIPTION:Join us every month for our luncheon. This is a great opportunity for networking connection and learning information about today's business climate.
X-ALT-DESC;FMTTYPE=text/html:<span style="font-size:14px\;">Join us every month for our luncheon. This is a great opportunity for networking connection and learning information about today&#39\;s business climate.</span>
LOCATION:Taylors Falls Scenic Boat Tours Dockside inside the boat 220 South Street Taylors Falls\, MN 55084
UID:e.3575.4895
SEQUENCE:3
DTSTAMP:20260422T215145Z
URL:https://business.chisagolakeschamber.com/events/details/monthly-luncheon-october-2022-4895
END:VEVENT

END:VCALENDAR
