BEGIN:VCALENDAR
VERSION:2.0
PRODID:-//ChamberMaster//Event Calendar 2.0//EN
METHOD:PUBLISH
X-PUBLISHED-TTL:P3D
REFRESH-INTERVAL:P3D
CALSCALE:GREGORIAN
BEGIN:VEVENT
DTSTART:20230914T163000Z
DTEND:20230914T180000Z
X-MICROSOFT-CDO-ALLDAYEVENT:FALSE
SUMMARY:Monthly Luncheon: September 2023
DESCRIPTION:Join us every month for our luncheon. This is a great opportunity for networking connection and learning information about today's business climate.
X-ALT-DESC;FMTTYPE=text/html:<span style="font-family:arial\;"><span style="font-size:14px\;">Join us every month for our luncheon. This is a great opportunity for networking connection and learning information about today&#39\;s business climate.</span></span><br />\n&nbsp\;
LOCATION:Pleasant Valley Orchard 17325 Pleasant Valley Rd Shafer\, MN 55074
UID:e.3575.6098
SEQUENCE:3
DTSTAMP:20260422T094327Z
URL:https://business.chisagolakeschamber.com/events/details/monthly-luncheon-september-2023-6098
END:VEVENT

END:VCALENDAR
