BEGIN:VCALENDAR
VERSION:2.0
PRODID:-//ChamberMaster//Event Calendar 2.0//EN
METHOD:PUBLISH
X-PUBLISHED-TTL:P3D
REFRESH-INTERVAL:P3D
CALSCALE:GREGORIAN
BEGIN:VEVENT
DTSTART;VALUE=DATE:20220508
DTEND;VALUE=DATE:20220509
TRANSP:TRANSPARENT
X-MICROSOFT-CDO-ALLDAYEVENT:TRUE
SUMMARY:Mother's Day Cruises
DESCRIPTION:Enjoy some time on the river with Mom! A great way to spend Mother's Day\, enjoy taking a tour of the St Croix River.\n\nSince 1906\, tourists by the thousands have enjoyed the scenic beauty of the world-famous Dalles of the St. Croix River by excursion boat.\n\nYour licensed boat pilot and tour guide will point out the unique rock formations left behind as the glaciers retreated thousands of years ago. Among the most outstanding formations is the huge stone cross for which the St. Croix River was named. "St. Croix" means Holy Cross.\n\nA trip on an authentic paddlewheel riverboat is a delightful way to spend the day with your mother. Upon boarding\, all mothers will receive a flower (while supplies last) and mimosa to enjoy while taking in the beauty of the river. Our snack bar\, which serves beer\, wine\, soda\, lemonade\, chips\, and candy\, will be open. Add a River Rock sandwich or salad to your reservation.\n\nClick here to go to our website to make your reservation or call us at 651-465-6315.
X-ALT-DESC;FMTTYPE=text/html:<p><span style="font-size:14px\;"><span style="font-family:tahoma\,sans-serif\;">Enjoy some time on the river with Mom! A great way to spend Mother&rsquo\;s Day\, enjoy taking a tour of the St Croix River.</span><br />\n<span style="font-family:tahoma\,sans-serif\;">Since 1906\, tourists by the thousands have enjoyed the scenic beauty of the world-famous Dalles of the St. Croix River by excursion boat.</span></span></p>\n\n<p><span style="font-size:14px\;"><span style="font-family:tahoma\,sans-serif\;">Your licensed boat pilot and tour guide will point out the unique rock formations left behind as the glaciers retreated thousands of years ago. Among the most outstanding formations is the huge stone cross for which the St. Croix River was named. &ldquo\;St. Croix&rdquo\; means Holy Cross.</span></span></p>\n\n<p><span style="font-size:14px\;"><span style="font-family:tahoma\,sans-serif\;">A trip on an authentic paddlewheel riverboat is a delightful way to spend the day with your mother. Upon boarding\, all mothers will receive a flower (while supplies last) and mimosa to enjoy while taking in the beauty of the river. Our snack bar\, which serves beer\, wine\, soda\, lemonade\, chips\, and candy\, will be open. Add a River Rock sandwich or salad to your reservation.</span></span></p>\n\n<p><span style="font-size:14px\;"><span style="color:black\;"><span style="font-family:tahoma\,sans-serif\;"><a href="https://www.taylorsfallsboat.com/boat-tours/mothers-day/" target="_blank"><span style="color:black\;">Click here</span></a>&nbsp\;to go to our website to make your reservation or call us at 651-465-6315.</span></span></span><br />\n<br />\n&nbsp\;</p>\n
LOCATION:
UID:e.3575.3208
SEQUENCE:3
DTSTAMP:20260421T115532Z
URL:https://business.chisagolakeschamber.com/events/details/mother-s-day-cruises-3208
END:VEVENT

END:VCALENDAR
