BEGIN:VCALENDAR
VERSION:2.0
PRODID:-//ChamberMaster//Event Calendar 2.0//EN
METHOD:PUBLISH
X-PUBLISHED-TTL:P3D
REFRESH-INTERVAL:P3D
CALSCALE:GREGORIAN
BEGIN:VEVENT
DTSTART:20221120T200000Z
DTEND:20221120T213000Z
X-MICROSOFT-CDO-ALLDAYEVENT:FALSE
SUMMARY:Movie and Music\; A MAN THERE WAS and the Poor Nobodys
DESCRIPTION:Twin Cities-based music ensemble The Poor Nobodys will perform a live original score accompanying the screening of the silent Swedish movie A MAN THERE WAS in the Chisago Lakes High School Performing Arts Center\, 29400 Olinda Trail\, Lindstrom\, MN. 55045 on Sunday\, November 20th at 2pm. \nBased on Henrik Ibsen's epic poem and directed by Victor Sj str m\, A Man There Was (Terje \n\nVigen) was released in 1917 when many Scandinavian immigrants were arriving in Minnesota. \n\nThe film tells the story of a Swedish sailor who takes on a British blockade to find food for his\n\nfamily. It is considered to be one of the finest examples of Swedish silent film.\n\n\n\nSuggested donation $10\; no one turned away. The event is hosted by The Friends of the Karl\n\nOskar House and the Chisago Lakes Chamber of Commerce. For more information\, call 651-\n\n253-3373 or 612-229-9737 or email FriendsofKarlOskarHouse@gmail.com or\n\npoornobodys@gmail.com.\n\n\n\nAbout the Artists\n\nThe Poor Nobodys have been composing and performing since 2008. They've written many\n\noriginal scores for both classic and new films\, including Night of the Living Dead\, Douglas\n\nFairbanks's The Black Pirate\, and Alfred Hitchcock's The Lodger. They have collaborated with\n\nvenues such as the Trylon Microcinema\, the Southern Theater\, and the Cedar Cultural Center in\n\nMinneapolis\; the Minnesota History Theater in St. Paul\; the Ark Center for the Arts in Viroqua\,\n\nWisconsin\; and many other venues in the Midwest and beyond. In 2014\, a European tour gave\n\nthe group the opportunity to perform in caf s and theaters in Germany\, Belgium\, the\n\nNetherlands\, Switzerland\, and France.\n\n\n\nPoor Nobodys member Eric Struve is a fiscal year 2022 recipient of a Creative Support for\n\nIndividuals grant from the Minnesota State Arts Board. This activity is made possible by the\n\nvoters of Minnesota through a grant from the Minnesota State Arts Board\, thanks to a legislative\n\nappropriation from the arts and cultural heritage fund.
X-ALT-DESC;FMTTYPE=text/html:<span style="font-size:14px\;"><span style="font-family:arial\;">Twin Cities-based music ensemble The Poor Nobodys will perform a live original score accompanying the screening of the silent Swedish movie A MAN THERE WAS in the Chisago Lakes High School Performing Arts Center\, 29400 Olinda Trail\, Lindstrom\, MN. 55045 on Sunday\, November 20th at 2pm.&nbsp\;</span></span>\n<div><span style="font-size:14px\;"><span style="font-family:arial\;">Based on Henrik Ibsen&rsquo\;s epic poem and directed by Victor Sj&ouml\;str&ouml\;m\, A Man There Was (Terje </span></span></div>\n\n<div><span style="font-size:14px\;"><span style="font-family:arial\;">Vigen) was released in 1917 when many Scandinavian immigrants were arriving in Minnesota. </span></span></div>\n\n<div><span style="font-size:14px\;"><span style="font-family:arial\;">The film tells the story of a Swedish sailor who takes on a British blockade to find food for his</span></span></div>\n\n<div><span style="font-size:14px\;"><span style="font-family:arial\;">family. It is considered to be one of the finest examples of Swedish silent film.</span></span></div>\n\n<div><br />\n<span style="font-size:14px\;"><span style="font-family:arial\;">Suggested donation $10\; no one turned away. The event is hosted by The Friends of the Karl</span></span></div>\n\n<div><span style="font-size:14px\;"><span style="font-family:arial\;">Oskar House and the Chisago Lakes Chamber of Commerce. For more information\, call 651-</span></span></div>\n\n<div><span style="font-size:14px\;"><span style="font-family:arial\;">253-3373 or 612-229-9737 or email<span style="color:transparent"> </span><span style="color:rgb(0\, 0\, 255)">FriendsofKarlOskarHouse@gmail.com</span> or</span></span></div>\n\n<div><span style="font-size:14px\;"><span style="font-family:arial\;">poornobodys@gmail.com<span style="color:rgb(0\, 0\, 0)">.</span></span></span></div>\n\n<div><br />\n<span style="font-size:14px\;"><span style="font-family:arial\;">About the Artists</span></span></div>\n\n<div><span style="font-size:14px\;"><span style="font-family:arial\;">The Poor Nobodys have been composing and performing since 2008. They&rsquo\;ve written many</span></span></div>\n\n<div><span style="font-size:14px\;"><span style="font-family:arial\;">original scores for both classic and new films\, including Night of the Living Dead\, Douglas</span></span></div>\n\n<div><span style="font-size:14px\;"><span style="font-family:arial\;">Fairbanks&rsquo\;s The Black Pirate\, and Alfred Hitchcock&rsquo\;s The Lodger. They have collaborated with</span></span></div>\n\n<div><span style="font-size:14px\;"><span style="font-family:arial\;">venues such as the Trylon Microcinema\, the Southern Theater\, and the Cedar Cultural Center in</span></span></div>\n\n<div><span style="font-size:14px\;"><span style="font-family:arial\;">Minneapolis\; the Minnesota History Theater in St. Paul\; the Ark Center for the Arts in Viroqua\,</span></span></div>\n\n<div><span style="font-size:14px\;"><span style="font-family:arial\;">Wisconsin\; and many other venues in the Midwest and beyond. In 2014\, a European tour gave</span></span></div>\n\n<div><span style="font-size:14px\;"><span style="font-family:arial\;">the group the opportunity to perform in caf&eacute\;s and theaters in Germany\, Belgium\, the</span></span></div>\n\n<div><span style="font-size:14px\;"><span style="font-family:arial\;">Netherlands\, Switzerland\, and France.</span></span></div>\n\n<div><br />\n<span style="font-size:14px\;"><span style="font-family:arial\;">Poor Nobodys member Eric Struve is a fiscal year 2022 recipient of a Creative Support for</span></span></div>\n\n<div><span style="font-size:14px\;"><span style="font-family:arial\;">Individuals grant from the Minnesota State Arts Board. This activity is made possible by the</span></span></div>\n\n<div><span style="font-size:14px\;"><span style="font-family:arial\;">voters of Minnesota through a grant from the Minnesota State Arts Board\, thanks to a legislative</span></span></div>\n\n<div><span style="font-size:14px\;"><span style="font-family:arial\;">appropriation from the arts and cultural heritage fund.</span></span></div>\n
LOCATION:Chisago Lakes High School Performing Arts Center\, 29400 Olinda Trail\, Lindstrom\, MN\, 55045
UID:e.3575.5317
SEQUENCE:3
DTSTAMP:20260422T215830Z
URL:https://business.chisagolakeschamber.com/events/details/movie-and-music-a-man-there-was-and-the-poor-nobodys-5317
END:VEVENT

END:VCALENDAR
