BEGIN:VCALENDAR
VERSION:2.0
PRODID:-//ChamberMaster//Event Calendar 2.0//EN
METHOD:PUBLISH
X-PUBLISHED-TTL:P3D
REFRESH-INTERVAL:P3D
CALSCALE:GREGORIAN
BEGIN:VEVENT
DTSTART:20260926T180000Z
DTEND:20260926T210000Z
X-MICROSOFT-CDO-ALLDAYEVENT:FALSE
SUMMARY:Muisc at the Orchard - Andrew Spreck
DESCRIPTION:Singer/songwriter Andrew Spreck digs deep into classic rock\, folk rock\, classic country...anything with soul and passion to deliver a lively\, inspiring blend of original material and a cover songs.
X-ALT-DESC;FMTTYPE=text/html:<span style="color:#050505"><span style="font-family:segoe ui historic\,sans-serif"><span style="font-size:11.5pt">Singer/songwriter Andrew Spreck digs deep into classic rock\, folk rock\, classic country...anything with soul and passion to deliver a lively\, inspiring blend of original material and a cover songs.</span></span></span><br />\n&nbsp\;
LOCATION:17325 Pleasant Valley Rd.\, Shafer\, MN 55074
UID:e.3575.9148
SEQUENCE:3
DTSTAMP:20260422T204244Z
URL:https://business.chisagolakeschamber.com/events/details/muisc-at-the-orchard-andrew-spreck-9148
END:VEVENT

END:VCALENDAR
