BEGIN:VCALENDAR
VERSION:2.0
PRODID:-//ChamberMaster//Event Calendar 2.0//EN
METHOD:PUBLISH
X-PUBLISHED-TTL:P3D
REFRESH-INTERVAL:P3D
CALSCALE:GREGORIAN
BEGIN:VEVENT
DTSTART:20221002T180000Z
DTEND:20221002T210000Z
X-MICROSOFT-CDO-ALLDAYEVENT:FALSE
SUMMARY:Muisc at the Orchard - Scrapegoat
DESCRIPTION:What can be more fun than an afternoon at the orchard listening to High-class Hoedown music?
X-ALT-DESC;FMTTYPE=text/html:What can be more fun than an afternoon at the orchard listening to High-class Hoedown music?&nbsp\;
LOCATION:17325 Pleasant Valley Rd.\, Shafer\, MN 55074
UID:e.3575.4877
SEQUENCE:3
DTSTAMP:20260422T215128Z
URL:https://business.chisagolakeschamber.com/events/details/muisc-at-the-orchard-scrapegoat-4877
END:VEVENT

END:VCALENDAR
