BEGIN:VCALENDAR
VERSION:2.0
PRODID:-//ChamberMaster//Event Calendar 2.0//EN
METHOD:PUBLISH
X-PUBLISHED-TTL:P3D
REFRESH-INTERVAL:P3D
CALSCALE:GREGORIAN
BEGIN:VEVENT
DTSTART:20221015T223000Z
DTEND:20221016T013000Z
X-MICROSOFT-CDO-ALLDAYEVENT:FALSE
SUMMARY:Murder Mystery Theatre Event at Glädje
DESCRIPTION:Did someone say MURDER?\n\nJoin us October 15th for our first official Murder Mystery Theatre event! The cast from Murder Mystery Theatre Company\, based in Stillwater MN\, will guide us through the Death of a Gangster with costume accessories\, drinks\, appetizers\, outrageous accusations\, and one heck of a night!
X-ALT-DESC;FMTTYPE=text/html:<span style="font-size:14px\;"><span style="font-family:arial\;"><strong><span style="color:black\;">Did someone say MURDER?</span></strong><br />\n<span style="color:black\;">Join us October 15th for our first official Murder Mystery Theatre event! The cast from Murder Mystery Theatre Company\, based in Stillwater MN\, will guide us through the Death of a Gangster with costume accessories\, drinks\, appetizers\, outrageous accusations\, and one heck of a night!</span></span></span>
LOCATION:Gladje Gallery 13025 Lake Boulevard Lindstrom\, MN 55045
UID:e.3575.5098
SEQUENCE:3
DTSTAMP:20260422T215445Z
URL:https://business.chisagolakeschamber.com/events/details/murder-mystery-theatre-event-at-gl&#228;dje-5098
END:VEVENT

END:VCALENDAR
