BEGIN:VCALENDAR
VERSION:2.0
PRODID:-//ChamberMaster//Event Calendar 2.0//EN
METHOD:PUBLISH
X-PUBLISHED-TTL:P3D
REFRESH-INTERVAL:P3D
CALSCALE:GREGORIAN
BEGIN:VEVENT
DTSTART:20221008T180000Z
DTEND:20221008T210000Z
X-MICROSOFT-CDO-ALLDAYEVENT:FALSE
SUMMARY:Music at the Orchard - Scotch Eggs
DESCRIPTION:Classic Scottish tunes. Music at the orchard doesn't get any better than this!
X-ALT-DESC;FMTTYPE=text/html:Classic Scottish tunes. Music at the orchard doesn&#39\;t get any better than this!&nbsp\;
LOCATION:17325 Pleasant Valley Rd\, Shafer\, MN 55074
UID:e.3575.4878
SEQUENCE:3
DTSTAMP:20260422T215558Z
URL:https://business.chisagolakeschamber.com/events/details/music-at-the-orchard-07-19-2022-4878
END:VEVENT

END:VCALENDAR
