BEGIN:VCALENDAR
VERSION:2.0
PRODID:-//ChamberMaster//Event Calendar 2.0//EN
METHOD:PUBLISH
X-PUBLISHED-TTL:P3D
REFRESH-INTERVAL:P3D
CALSCALE:GREGORIAN
BEGIN:VEVENT
DTSTART:20210911T170000Z
DTEND:20210911T200000Z
X-MICROSOFT-CDO-ALLDAYEVENT:FALSE
SUMMARY:Music at the Orchard
DESCRIPTION:Enjoy the Cedar Creek Band while you pick apples\, shop the Anniversary Fair or just hang out and enjoy the day! The Cedar Creek band plays an acoustic mix of jazz\, blues and singer/songwriter music.
X-ALT-DESC;FMTTYPE=text/html:Enjoy the Cedar Creek Band while you pick apples\, shop the Anniversary Fair or just hang out and enjoy the day! The Cedar Creek band plays an acoustic mix of jazz\, blues and singer/songwriter music.
LOCATION:Pleasant Valley Orchard
UID:e.3575.1695
SEQUENCE:3
DTSTAMP:20260421T090403Z
URL:https://business.chisagolakeschamber.com/events/details/music-at-the-orchard-1695
END:VEVENT

END:VCALENDAR
