BEGIN:VCALENDAR
VERSION:2.0
PRODID:-//ChamberMaster//Event Calendar 2.0//EN
METHOD:PUBLISH
X-PUBLISHED-TTL:P3D
REFRESH-INTERVAL:P3D
CALSCALE:GREGORIAN
BEGIN:VEVENT
DTSTART:20251018T180000Z
DTEND:20251018T210000Z
X-MICROSOFT-CDO-ALLDAYEVENT:FALSE
SUMMARY:Music At The Orchard - Andrew Spreck
DESCRIPTION:Singer/songwriter Andrew Spreck digs deep into classic rock\, folk rock\, classic country...anything with soul and passion to deliver a lively\, inspiring blend of original material and a cover songs.
X-ALT-DESC;FMTTYPE=text/html:<span style="background-color:transparent\; color:rgb(0\, 0\, 0)\; font-family:calibri\,sans-serif\; font-size:10pt">&nbsp\;&nbsp\; &nbsp\;</span><span style="color:rgb(5\, 5\, 5)\; font-family:arial\,sans-serif\; font-size:10pt">Singer/songwriter Andrew Spreck </span><span style="color:rgb(5\, 5\, 5)\; font-family:segoe ui historic\,sans-serif\; font-size:11.5pt">digs deep into classic rock\, folk rock\, classic country...anything with soul and passion to deliver a lively\, inspiring blend of original material and a cover songs.</span>
LOCATION:17325 Pleasant Valley Rd.\, Shafer\, MN 55074
UID:e.3575.7129
SEQUENCE:3
DTSTAMP:20260422T064638Z
URL:https://business.chisagolakeschamber.com/events/details/music-at-the-orchard-andrew-spreck-09-28-2024-7129
END:VEVENT

END:VCALENDAR
