BEGIN:VCALENDAR
VERSION:2.0
PRODID:-//ChamberMaster//Event Calendar 2.0//EN
METHOD:PUBLISH
X-PUBLISHED-TTL:P3D
REFRESH-INTERVAL:P3D
CALSCALE:GREGORIAN
BEGIN:VEVENT
DTSTART:20230916T160000Z
DTEND:20230916T180000Z
X-MICROSOFT-CDO-ALLDAYEVENT:FALSE
SUMMARY:Music at the Orchard: Dan & Jo
DESCRIPTION:Dan and Jo are a local duo bringing a variety of music from the 70's to more recent music. Their harmonies and varied music choices will make this an enjoyable afternoon of music.
X-ALT-DESC;FMTTYPE=text/html:<span style="color:rgb(5\, 5\, 5)\; font-family:segoe ui historic\,segoe ui\,helvetica\,arial\,sans-serif\; font-size:15px">Dan and Jo are a local duo bringing a variety of music from the 70&rsquo\;s to more recent music. Their harmonies and varied music choices will make this an enjoyable afternoon of music.</span>
LOCATION:17325 Pleasant Valley Road Shafer MN 55074
UID:e.3575.6131
SEQUENCE:3
DTSTAMP:20260422T092908Z
URL:https://business.chisagolakeschamber.com/events/details/music-at-the-orchard-dan-jo-6131
END:VEVENT

END:VCALENDAR
