BEGIN:VCALENDAR
VERSION:2.0
PRODID:-//ChamberMaster//Event Calendar 2.0//EN
METHOD:PUBLISH
X-PUBLISHED-TTL:P3D
REFRESH-INTERVAL:P3D
CALSCALE:GREGORIAN
BEGIN:VEVENT
DTSTART:20221016T180000Z
DTEND:20221016T210000Z
X-MICROSOFT-CDO-ALLDAYEVENT:FALSE
SUMMARY:Music at the Orchard - Drew Peterson
DESCRIPTION:Drew Peterson comes from a long line of musically inept Norwegian Farmers (unless you count his Grandpa Pops\, the town drunk\, who played the harmonica and concertina for booze). Born without natural talent\, Peterson tackled his musical endeavors the way he had been taught while growing up on a farm in rural Minnesota - hard work and lots of practice. And practice is what he's been doing for 20 years. With clever\, dry humor\, thought-provoking lyrics\, and a performance style that can transform from intimate listening room to rowdy festivals and bars\, Peterson always gives his heart and soul to the stage.
X-ALT-DESC;FMTTYPE=text/html:<span style="color:rgb(0\, 0\, 0)\; font-family:arial\; font-size:14px">Drew Peterson comes from a long line of musically inept Norwegian Farmers (unless you count his Grandpa Pops\, the town drunk\, who played the harmonica and concertina for booze). Born without natural talent\, Peterson tackled his musical endeavors the way he had been taught while growing up on a farm in rural Minnesota - hard work and lots of practice. And practice is what he&rsquo\;s been doing for 20 years. With clever\, dry humor\, thought-provoking lyrics\, and a performance style that can transform from intimate listening room to rowdy festivals and bars\, Peterson always gives his heart and soul to the stage.</span>
LOCATION:17325 Pleasant Valley Rd.\, Shafer\, MN 55074
UID:e.3575.4880
SEQUENCE:3
DTSTAMP:20260422T215542Z
URL:https://business.chisagolakeschamber.com/events/details/music-at-the-orchard-drew-peterson-4880
END:VEVENT

END:VCALENDAR
