BEGIN:VCALENDAR
VERSION:2.0
PRODID:-//ChamberMaster//Event Calendar 2.0//EN
METHOD:PUBLISH
X-PUBLISHED-TTL:P3D
REFRESH-INTERVAL:P3D
CALSCALE:GREGORIAN
BEGIN:VEVENT
DTSTART:20221009T180000Z
DTEND:20221009T210000Z
X-MICROSOFT-CDO-ALLDAYEVENT:FALSE
SUMMARY:Music at the Orchard - Glory Bound
DESCRIPTION:Old-fashioned gospel music and classic hymns.
X-ALT-DESC;FMTTYPE=text/html:Old-fashioned gospel music and classic hymns.&nbsp\;
LOCATION:17325 Pleasant Valley Rd.\, Shafer\, MN 55074
UID:e.3575.4879
SEQUENCE:3
DTSTAMP:20260422T215145Z
URL:https://business.chisagolakeschamber.com/events/details/music-at-the-orchard-glory-bound-4879
END:VEVENT

END:VCALENDAR
