BEGIN:VCALENDAR
VERSION:2.0
PRODID:-//ChamberMaster//Event Calendar 2.0//EN
METHOD:PUBLISH
X-PUBLISHED-TTL:P3D
REFRESH-INTERVAL:P3D
CALSCALE:GREGORIAN
BEGIN:VEVENT
DTSTART:20221001T060000Z
DTEND:20221001T090000Z
X-MICROSOFT-CDO-ALLDAYEVENT:FALSE
SUMMARY:Music at the Orchard - James Dahl
DESCRIPTION:Singer/guitarist performing easy-listening vocals and acoustic guitar music.
X-ALT-DESC;FMTTYPE=text/html:<span style="color:rgb(5\, 5\, 5)\; font-family:system-ui\,-apple-system\,blinkmacsystemfont\,.sfnstext-regular\,sans-serif\; font-size:15px">Singer/guitarist performing easy-listening vocals and acoustic guitar music.</span>
LOCATION:17325 Pleasant Valley Rd.\, Shafer\, MN 55074
UID:e.3575.4876
SEQUENCE:3
DTSTAMP:20260422T215542Z
URL:https://business.chisagolakeschamber.com/events/details/music-at-the-orchard-james-dahl-4876
END:VEVENT

END:VCALENDAR
