BEGIN:VCALENDAR
VERSION:2.0
PRODID:-//ChamberMaster//Event Calendar 2.0//EN
METHOD:PUBLISH
X-PUBLISHED-TTL:P3D
REFRESH-INTERVAL:P3D
CALSCALE:GREGORIAN
BEGIN:VEVENT
DTSTART:20230917T180000Z
DTEND:20230917T210000Z
X-MICROSOFT-CDO-ALLDAYEVENT:FALSE
SUMMARY:Music at the Orchard - Rusty Cello
DESCRIPTION:Cello + Guitar. \n\nAcoustic music from across the genre's.  \n\nClassic Rock\, 80's\, 90's\, Disney with twist.
X-ALT-DESC;FMTTYPE=text/html:<span style="color:rgb(5\, 5\, 5)\; font-family:system-ui\,-apple-system\,blinkmacsystemfont\,.sfnstext-regular\,sans-serif\; font-size:15px">Cello + Guitar.&nbsp\;</span><br />\n<span style="color:rgb(5\, 5\, 5)\; font-family:system-ui\,-apple-system\,blinkmacsystemfont\,.sfnstext-regular\,sans-serif\; font-size:15px">Acoustic music from across the genre&#39\;s.&nbsp\;&nbsp\;</span><br />\n<span style="color:rgb(5\, 5\, 5)\; font-family:system-ui\,-apple-system\,blinkmacsystemfont\,.sfnstext-regular\,sans-serif\; font-size:15px">Classic Rock\, 80&#39\;s\, 90&#39\;s\, Disney with twist.</span>
LOCATION:17325 Pleasant Valley Rd.\, Shafer\, MN 55074
UID:e.3575.6134
SEQUENCE:3
DTSTAMP:20260424T092303Z
URL:https://business.chisagolakeschamber.com/events/details/music-at-the-orchard-rusty-cello-09-17-2023-6134
END:VEVENT

END:VCALENDAR
