BEGIN:VCALENDAR
VERSION:2.0
PRODID:-//ChamberMaster//Event Calendar 2.0//EN
METHOD:PUBLISH
X-PUBLISHED-TTL:P3D
REFRESH-INTERVAL:P3D
CALSCALE:GREGORIAN
BEGIN:VEVENT
DTSTART:20220521T190000Z
DTEND:20220521T230000Z
X-MICROSOFT-CDO-ALLDAYEVENT:FALSE
SUMMARY:Music @ Franconia: Products\, Scrunchies\, and The Cult of Percolation
DESCRIPTION:Franconia's longstanding Music @ Franconia outdoor summer concerts highlight the best in local\, national\, and international music. Admission is free\, concerts are $5/vehicle. Food trucks will be onsite with local fare for purchase\, and alcoholic beverages are available. We invite you to bring a blanket or lawn chair and stay for the day!\n\nLineup is as follows:\n\nThe Cult of Percolation\n\n2:15pm-3:15pm\n\nRock N' Roll fugitives from a distant galaxy\, on the run from intergalactic law enforcement for rocking too many faces off.\n\nProducts\n\n3:45pm-4:45pm\n\nRock band from Minneapolis mixing lyrical sarcasm and sincerity with laser-sharp guitar work dancing atop galloping drums and bass.\n\nScrunchies\n\n4:45-5:45 PM\n\nThis "post-everything" rock band brings a loud and energetic live set\, recalling the messy and cathartic energy of late 80s grunge and punk.\n\nFood Trucks on-site during concert:\n\nPotters Pasties & Pies\n\nOl' Smoky BBQ\n\nMN Nice Cream \n\nThis activity is made possible by the voters of Minnesota through a grant from the East Central Regional Arts Council\, thanks to a legislative appropriation from the arts and cultural heritage fund.
X-ALT-DESC;FMTTYPE=text/html:<div class="kvgmc6g5 cxmmr5t8 oygrvhab hcukyx3x c1et5uql" style="--timely-white:white\; --timely-black:black\; --timely-primary-color:#333333\; --timely-primary-accent-color:#d8d8d8\; --timely-secondary-color:#506688\; --timely-secondary-accent-color:#f0f4fa\; --timely-tertiary-color:#f9f9f9\; --timely-tertiary-accent-color:#fcb9004d\; --timely-shadow-color:#0002\; --timely-cta-color:#82c144\; --timely-button-color:#223e49\; --timely-error-color:#9f2222\; --timely-warning-color:#ffa000\; --timely-sky-blue:#148099\; --timely-event-tbc:#E83294\; --timely-event-tentative:#275ADC\; --timely-event-featured:#5A6473\; --timely-event-new:#11B5FB\; --timely-event-updated:#6E33A9\; --timely-naos-green:#558228\; overflow-wrap: break-word\; margin: 0px\; font-family: system-ui\, -apple-system\, &quot\;system-ui&quot\;\, &quot\;.SFNSText-Regular&quot\;\, sans-serif\; color: rgb(5\, 5\, 5)\; font-size: 15px\; text-align: justify\;">Franconia&rsquo\;s longstanding Music @ Franconia outdoor summer concerts highlight the best in local\, national\, and international music. Admission is free\, concerts are $5/vehicle. Food trucks will be onsite with local fare for purchase\, and alcoholic beverages are available. We invite you to bring a blanket or lawn chair and stay for the day!</div>\n\n<div class="cxmmr5t8 oygrvhab hcukyx3x c1et5uql o9v6fnle" style="--timely-white:white\; --timely-black:black\; --timely-primary-color:#333333\; --timely-primary-accent-color:#d8d8d8\; --timely-secondary-color:#506688\; --timely-secondary-accent-color:#f0f4fa\; --timely-tertiary-color:#f9f9f9\; --timely-tertiary-accent-color:#fcb9004d\; --timely-shadow-color:#0002\; --timely-cta-color:#82c144\; --timely-button-color:#223e49\; --timely-error-color:#9f2222\; --timely-warning-color:#ffa000\; --timely-sky-blue:#148099\; --timely-event-tbc:#E83294\; --timely-event-tentative:#275ADC\; --timely-event-featured:#5A6473\; --timely-event-new:#11B5FB\; --timely-event-updated:#6E33A9\; --timely-naos-green:#558228\; overflow-wrap: break-word\; margin: 0.5em 0px 0px\; font-family: system-ui\, -apple-system\, &quot\;system-ui&quot\;\, &quot\;.SFNSText-Regular&quot\;\, sans-serif\; color: rgb(5\, 5\, 5)\; font-size: 15px\; text-align: justify\;">Lineup is as follows:<br style="--timely-white:white\; --timely-black:black\; --timely-primary-color:#333333\; --timely-primary-accent-color:#d8d8d8\; --timely-secondary-color:#506688\; --timely-secondary-accent-color:#f0f4fa\; --timely-tertiary-color:#f9f9f9\; --timely-tertiary-accent-color:#fcb9004d\; --timely-shadow-color:#0002\; --timely-cta-color:#82c144\; --timely-button-color:#223e49\; --timely-error-color:#9f2222\; --timely-warning-color:#ffa000\; --timely-sky-blue:#148099\; --timely-event-tbc:#E83294\; --timely-event-tentative:#275ADC\; --timely-event-featured:#5A6473\; --timely-event-new:#11B5FB\; --timely-event-updated:#6E33A9\; --timely-naos-green:#558228\;" />\nThe Cult of Percolation<br style="--timely-white:white\; --timely-black:black\; --timely-primary-color:#333333\; --timely-primary-accent-color:#d8d8d8\; --timely-secondary-color:#506688\; --timely-secondary-accent-color:#f0f4fa\; --timely-tertiary-color:#f9f9f9\; --timely-tertiary-accent-color:#fcb9004d\; --timely-shadow-color:#0002\; --timely-cta-color:#82c144\; --timely-button-color:#223e49\; --timely-error-color:#9f2222\; --timely-warning-color:#ffa000\; --timely-sky-blue:#148099\; --timely-event-tbc:#E83294\; --timely-event-tentative:#275ADC\; --timely-event-featured:#5A6473\; --timely-event-new:#11B5FB\; --timely-event-updated:#6E33A9\; --timely-naos-green:#558228\;" />\n2:15pm-3:15pm<br style="--timely-white:white\; --timely-black:black\; --timely-primary-color:#333333\; --timely-primary-accent-color:#d8d8d8\; --timely-secondary-color:#506688\; --timely-secondary-accent-color:#f0f4fa\; --timely-tertiary-color:#f9f9f9\; --timely-tertiary-accent-color:#fcb9004d\; --timely-shadow-color:#0002\; --timely-cta-color:#82c144\; --timely-button-color:#223e49\; --timely-error-color:#9f2222\; --timely-warning-color:#ffa000\; --timely-sky-blue:#148099\; --timely-event-tbc:#E83294\; --timely-event-tentative:#275ADC\; --timely-event-featured:#5A6473\; --timely-event-new:#11B5FB\; --timely-event-updated:#6E33A9\; --timely-naos-green:#558228\;" />\nRock N&rsquo\; Roll fugitives from a distant galaxy\, on the run from intergalactic law enforcement for rocking too many faces off.</div>\n\n<div class="cxmmr5t8 oygrvhab hcukyx3x c1et5uql o9v6fnle" style="--timely-white:white\; --timely-black:black\; --timely-primary-color:#333333\; --timely-primary-accent-color:#d8d8d8\; --timely-secondary-color:#506688\; --timely-secondary-accent-color:#f0f4fa\; --timely-tertiary-color:#f9f9f9\; --timely-tertiary-accent-color:#fcb9004d\; --timely-shadow-color:#0002\; --timely-cta-color:#82c144\; --timely-button-color:#223e49\; --timely-error-color:#9f2222\; --timely-warning-color:#ffa000\; --timely-sky-blue:#148099\; --timely-event-tbc:#E83294\; --timely-event-tentative:#275ADC\; --timely-event-featured:#5A6473\; --timely-event-new:#11B5FB\; --timely-event-updated:#6E33A9\; --timely-naos-green:#558228\; overflow-wrap: break-word\; margin: 0.5em 0px 0px\; font-family: system-ui\, -apple-system\, &quot\;system-ui&quot\;\, &quot\;.SFNSText-Regular&quot\;\, sans-serif\; color: rgb(5\, 5\, 5)\; font-size: 15px\; text-align: justify\;">Products<br style="--timely-white:white\; --timely-black:black\; --timely-primary-color:#333333\; --timely-primary-accent-color:#d8d8d8\; --timely-secondary-color:#506688\; --timely-secondary-accent-color:#f0f4fa\; --timely-tertiary-color:#f9f9f9\; --timely-tertiary-accent-color:#fcb9004d\; --timely-shadow-color:#0002\; --timely-cta-color:#82c144\; --timely-button-color:#223e49\; --timely-error-color:#9f2222\; --timely-warning-color:#ffa000\; --timely-sky-blue:#148099\; --timely-event-tbc:#E83294\; --timely-event-tentative:#275ADC\; --timely-event-featured:#5A6473\; --timely-event-new:#11B5FB\; --timely-event-updated:#6E33A9\; --timely-naos-green:#558228\;" />\n3:45pm-4:45pm<br style="--timely-white:white\; --timely-black:black\; --timely-primary-color:#333333\; --timely-primary-accent-color:#d8d8d8\; --timely-secondary-color:#506688\; --timely-secondary-accent-color:#f0f4fa\; --timely-tertiary-color:#f9f9f9\; --timely-tertiary-accent-color:#fcb9004d\; --timely-shadow-color:#0002\; --timely-cta-color:#82c144\; --timely-button-color:#223e49\; --timely-error-color:#9f2222\; --timely-warning-color:#ffa000\; --timely-sky-blue:#148099\; --timely-event-tbc:#E83294\; --timely-event-tentative:#275ADC\; --timely-event-featured:#5A6473\; --timely-event-new:#11B5FB\; --timely-event-updated:#6E33A9\; --timely-naos-green:#558228\;" />\nRock band from Minneapolis mixing lyrical sarcasm and sincerity with laser-sharp guitar work dancing atop galloping drums and bass.</div>\n\n<div class="cxmmr5t8 oygrvhab hcukyx3x c1et5uql o9v6fnle" style="--timely-white:white\; --timely-black:black\; --timely-primary-color:#333333\; --timely-primary-accent-color:#d8d8d8\; --timely-secondary-color:#506688\; --timely-secondary-accent-color:#f0f4fa\; --timely-tertiary-color:#f9f9f9\; --timely-tertiary-accent-color:#fcb9004d\; --timely-shadow-color:#0002\; --timely-cta-color:#82c144\; --timely-button-color:#223e49\; --timely-error-color:#9f2222\; --timely-warning-color:#ffa000\; --timely-sky-blue:#148099\; --timely-event-tbc:#E83294\; --timely-event-tentative:#275ADC\; --timely-event-featured:#5A6473\; --timely-event-new:#11B5FB\; --timely-event-updated:#6E33A9\; --timely-naos-green:#558228\; overflow-wrap: break-word\; margin: 0.5em 0px 0px\; font-family: system-ui\, -apple-system\, &quot\;system-ui&quot\;\, &quot\;.SFNSText-Regular&quot\;\, sans-serif\; color: rgb(5\, 5\, 5)\; font-size: 15px\; text-align: justify\;">Scrunchies<br style="--timely-white:white\; --timely-black:black\; --timely-primary-color:#333333\; --timely-primary-accent-color:#d8d8d8\; --timely-secondary-color:#506688\; --timely-secondary-accent-color:#f0f4fa\; --timely-tertiary-color:#f9f9f9\; --timely-tertiary-accent-color:#fcb9004d\; --timely-shadow-color:#0002\; --timely-cta-color:#82c144\; --timely-button-color:#223e49\; --timely-error-color:#9f2222\; --timely-warning-color:#ffa000\; --timely-sky-blue:#148099\; --timely-event-tbc:#E83294\; --timely-event-tentative:#275ADC\; --timely-event-featured:#5A6473\; --timely-event-new:#11B5FB\; --timely-event-updated:#6E33A9\; --timely-naos-green:#558228\;" />\n4:45-5:45 PM<br style="--timely-white:white\; --timely-black:black\; --timely-primary-color:#333333\; --timely-primary-accent-color:#d8d8d8\; --timely-secondary-color:#506688\; --timely-secondary-accent-color:#f0f4fa\; --timely-tertiary-color:#f9f9f9\; --timely-tertiary-accent-color:#fcb9004d\; --timely-shadow-color:#0002\; --timely-cta-color:#82c144\; --timely-button-color:#223e49\; --timely-error-color:#9f2222\; --timely-warning-color:#ffa000\; --timely-sky-blue:#148099\; --timely-event-tbc:#E83294\; --timely-event-tentative:#275ADC\; --timely-event-featured:#5A6473\; --timely-event-new:#11B5FB\; --timely-event-updated:#6E33A9\; --timely-naos-green:#558228\;" />\nThis &ldquo\;post-everything&rdquo\; rock band brings a loud and energetic live set\, recalling the messy and cathartic energy of late 80s grunge and punk.</div>\n\n<div class="cxmmr5t8 oygrvhab hcukyx3x c1et5uql o9v6fnle" style="--timely-white:white\; --timely-black:black\; --timely-primary-color:#333333\; --timely-primary-accent-color:#d8d8d8\; --timely-secondary-color:#506688\; --timely-secondary-accent-color:#f0f4fa\; --timely-tertiary-color:#f9f9f9\; --timely-tertiary-accent-color:#fcb9004d\; --timely-shadow-color:#0002\; --timely-cta-color:#82c144\; --timely-button-color:#223e49\; --timely-error-color:#9f2222\; --timely-warning-color:#ffa000\; --timely-sky-blue:#148099\; --timely-event-tbc:#E83294\; --timely-event-tentative:#275ADC\; --timely-event-featured:#5A6473\; --timely-event-new:#11B5FB\; --timely-event-updated:#6E33A9\; --timely-naos-green:#558228\; overflow-wrap: break-word\; margin: 0.5em 0px 0px\; font-family: system-ui\, -apple-system\, &quot\;system-ui&quot\;\, &quot\;.SFNSText-Regular&quot\;\, sans-serif\; color: rgb(5\, 5\, 5)\; font-size: 15px\; text-align: justify\;">Food Trucks on-site during concert:<br style="--timely-white:white\; --timely-black:black\; --timely-primary-color:#333333\; --timely-primary-accent-color:#d8d8d8\; --timely-secondary-color:#506688\; --timely-secondary-accent-color:#f0f4fa\; --timely-tertiary-color:#f9f9f9\; --timely-tertiary-accent-color:#fcb9004d\; --timely-shadow-color:#0002\; --timely-cta-color:#82c144\; --timely-button-color:#223e49\; --timely-error-color:#9f2222\; --timely-warning-color:#ffa000\; --timely-sky-blue:#148099\; --timely-event-tbc:#E83294\; --timely-event-tentative:#275ADC\; --timely-event-featured:#5A6473\; --timely-event-new:#11B5FB\; --timely-event-updated:#6E33A9\; --timely-naos-green:#558228\;" />\n<a href="https://potterspasties.com/" style="--timely-white:white\; --timely-black:black\; --timely-primary-color:#333333\; --timely-primary-accent-color:#d8d8d8\; --timely-secondary-color:#506688\; --timely-secondary-accent-color:#f0f4fa\; --timely-tertiary-color:#f9f9f9\; --timely-tertiary-accent-color:#fcb9004d\; --timely-shadow-color:#0002\; --timely-cta-color:#82c144\; --timely-button-color:#223e49\; --timely-error-color:#9f2222\; --timely-warning-color:#ffa000\; --timely-sky-blue:#148099\; --timely-event-tbc:#E83294\; --timely-event-tentative:#275ADC\; --timely-event-featured:#5A6473\; --timely-event-new:#11B5FB\; --timely-event-updated:#6E33A9\; --timely-naos-green:#558228\; cursor: pointer\; text-decoration-line: none\; color: var(--timely-secondary-color)\;" target="_blank">Potters Pasties &amp\; Pies</a><br style="--timely-white:white\; --timely-black:black\; --timely-primary-color:#333333\; --timely-primary-accent-color:#d8d8d8\; --timely-secondary-color:#506688\; --timely-secondary-accent-color:#f0f4fa\; --timely-tertiary-color:#f9f9f9\; --timely-tertiary-accent-color:#fcb9004d\; --timely-shadow-color:#0002\; --timely-cta-color:#82c144\; --timely-button-color:#223e49\; --timely-error-color:#9f2222\; --timely-warning-color:#ffa000\; --timely-sky-blue:#148099\; --timely-event-tbc:#E83294\; --timely-event-tentative:#275ADC\; --timely-event-featured:#5A6473\; --timely-event-new:#11B5FB\; --timely-event-updated:#6E33A9\; --timely-naos-green:#558228\;" />\n<a href="http://olsmokybbq.com/" style="--timely-white:white\; --timely-black:black\; --timely-primary-color:#333333\; --timely-primary-accent-color:#d8d8d8\; --timely-secondary-color:#506688\; --timely-secondary-accent-color:#f0f4fa\; --timely-tertiary-color:#f9f9f9\; --timely-tertiary-accent-color:#fcb9004d\; --timely-shadow-color:#0002\; --timely-cta-color:#82c144\; --timely-button-color:#223e49\; --timely-error-color:#9f2222\; --timely-warning-color:#ffa000\; --timely-sky-blue:#148099\; --timely-event-tbc:#E83294\; --timely-event-tentative:#275ADC\; --timely-event-featured:#5A6473\; --timely-event-new:#11B5FB\; --timely-event-updated:#6E33A9\; --timely-naos-green:#558228\; cursor: pointer\; text-decoration-line: none\; color: var(--timely-secondary-color)\;" target="_blank">Ol&rsquo\; Smoky BBQ</a><br style="--timely-white:white\; --timely-black:black\; --timely-primary-color:#333333\; --timely-primary-accent-color:#d8d8d8\; --timely-secondary-color:#506688\; --timely-secondary-accent-color:#f0f4fa\; --timely-tertiary-color:#f9f9f9\; --timely-tertiary-accent-color:#fcb9004d\; --timely-shadow-color:#0002\; --timely-cta-color:#82c144\; --timely-button-color:#223e49\; --timely-error-color:#9f2222\; --timely-warning-color:#ffa000\; --timely-sky-blue:#148099\; --timely-event-tbc:#E83294\; --timely-event-tentative:#275ADC\; --timely-event-featured:#5A6473\; --timely-event-new:#11B5FB\; --timely-event-updated:#6E33A9\; --timely-naos-green:#558228\;" />\n<a href="https://www.mnnicecream.com/" style="--timely-white:white\; --timely-black:black\; --timely-primary-color:#333333\; --timely-primary-accent-color:#d8d8d8\; --timely-secondary-color:#506688\; --timely-secondary-accent-color:#f0f4fa\; --timely-tertiary-color:#f9f9f9\; --timely-tertiary-accent-color:#fcb9004d\; --timely-shadow-color:#0002\; --timely-cta-color:#82c144\; --timely-button-color:#223e49\; --timely-error-color:#9f2222\; --timely-warning-color:#ffa000\; --timely-sky-blue:#148099\; --timely-event-tbc:#E83294\; --timely-event-tentative:#275ADC\; --timely-event-featured:#5A6473\; --timely-event-new:#11B5FB\; --timely-event-updated:#6E33A9\; --timely-naos-green:#558228\; cursor: pointer\; text-decoration-line: none\; color: var(--timely-secondary-color)\;" target="_blank">MN Nice Cream&nbsp\;</a></div>\n\n<div class="cxmmr5t8 oygrvhab hcukyx3x c1et5uql o9v6fnle" style="--timely-white:white\; --timely-black:black\; --timely-primary-color:#333333\; --timely-primary-accent-color:#d8d8d8\; --timely-secondary-color:#506688\; --timely-secondary-accent-color:#f0f4fa\; --timely-tertiary-color:#f9f9f9\; --timely-tertiary-accent-color:#fcb9004d\; --timely-shadow-color:#0002\; --timely-cta-color:#82c144\; --timely-button-color:#223e49\; --timely-error-color:#9f2222\; --timely-warning-color:#ffa000\; --timely-sky-blue:#148099\; --timely-event-tbc:#E83294\; --timely-event-tentative:#275ADC\; --timely-event-featured:#5A6473\; --timely-event-new:#11B5FB\; --timely-event-updated:#6E33A9\; --timely-naos-green:#558228\; overflow-wrap: break-word\; margin: 0.5em 0px 0px\; font-family: system-ui\, -apple-system\, &quot\;system-ui&quot\;\, &quot\;.SFNSText-Regular&quot\;\, sans-serif\; color: rgb(5\, 5\, 5)\; font-size: 15px\; text-align: justify\;">This activity is made possible by the voters of Minnesota through a grant from the East Central Regional Arts Council\, thanks to a legislative appropriation from the arts and cultural heritage fund.</div>\n
LOCATION:Franconia Sculpture Park 29836 St. Croix Trail Shafer\, MN 55074
UID:e.3575.4275
SEQUENCE:3
DTSTAMP:20260421T120419Z
URL:https://business.chisagolakeschamber.com/events/details/music-franconia-products-scrunchies-and-the-cult-of-percolation-4275
END:VEVENT

END:VCALENDAR
